BEGIN:VCALENDAR
VERSION:2.0
PRODID:-//ChamberMaster//Event Calendar 2.0//EN
METHOD:PUBLISH
X-PUBLISHED-TTL:P3D
REFRESH-INTERVAL:P3D
CALSCALE:GREGORIAN
BEGIN:VEVENT
DTSTART:20121130T220000Z
DTEND:20121201T000000Z
X-MICROSOFT-CDO-ALLDAYEVENT:FALSE
SUMMARY:Pictures with Santa
DESCRIPTION:Sarrell Dental Center will be offering FREE pictures with Santa for children 12 & under.
X-ALT-DESC;FMTTYPE=text/html:Sarrell Dental Center will be offering FREE pictures with Santa for children 12 &amp\; under.
LOCATION:Ferguson's Wedding Chapel in Downtown Attalla. It is located on the corner of 5th Avenue and 4th Street across from the gazebo.
UID:e.1432.382830
SEQUENCE:3
DTSTAMP:20260423T020259Z
URL:http://business.etowahchamber.org/events/details/pictures-with-santa-11-30-2012-382830
END:VEVENT

END:VCALENDAR
