BEGIN:VCALENDAR
VERSION:2.0
PRODID:-//ChamberMaster//Event Calendar 2.0//EN
METHOD:PUBLISH
X-PUBLISHED-TTL:P3D
REFRESH-INTERVAL:P3D
CALSCALE:GREGORIAN
BEGIN:VEVENT
DTSTART:20130413T140000Z
DTEND:20130413T170000Z
X-MICROSOFT-CDO-ALLDAYEVENT:FALSE
SUMMARY:Pioneer Green Energy Open House (The Noccalula Wind Project)
DESCRIPTION:Join Pioneer Green Energy for an Open House\, The Noccalula Wind Project.  Learn about the wind project\, enjoy some free food and refreshments and meet our team.  Lots of fun for the whole family!  Etowah County Courthouse Community Meeting Room 205\, Saturday April 13\, 2013\, 9am - 12pm.  For more information call Patrick Buckley at 713-962-2933.  noccalulawind.com
X-ALT-DESC;FMTTYPE=text/html:Join Pioneer Green Energy for an Open House\, The Noccalula Wind Project. &nbsp\;Learn about the wind project\, enjoy some free food and refreshments and meet our team. &nbsp\;Lots of fun for the whole family! &nbsp\;Etowah County Courthouse Community Meeting Room 205\, Saturday April 13\, 2013\, 9am - 12pm. &nbsp\;For more information call Patrick Buckley at 713-962-2933. &nbsp\;noccalulawind.com
LOCATION:Etowah County Courthouse Community Meeting Room 205
UID:e.1432.383175
SEQUENCE:3
DTSTAMP:20260423T082542Z
URL:http://business.etowahchamber.org/events/details/pioneer-green-energy-open-house-the-noccalula-wind-project-04-13-2013-383175
END:VEVENT

END:VCALENDAR
