BEGIN:VCALENDAR
VERSION:2.0
PRODID:-//ChamberMaster//Event Calendar 2.0//EN
METHOD:PUBLISH
X-PUBLISHED-TTL:P3D
REFRESH-INTERVAL:P3D
CALSCALE:GREGORIAN
BEGIN:VEVENT
DTSTART;VALUE=DATE:20120802
DTEND;VALUE=DATE:20120803
TRANSP:TRANSPARENT
X-MICROSOFT-CDO-ALLDAYEVENT:TRUE
SUMMARY:Polka Dots & Pearls Boutique 1 Year Anniversary
DESCRIPTION:We will be having our One Year Anniversary Celebration on First Friday at Polka Dots & Pearls Boutique. We will have special deals\, prizes\, drawings\, snacks and lots of fashion for Women and Tween!!
X-ALT-DESC;FMTTYPE=text/html:We will be having our One Year Anniversary Celebration on First Friday at Polka Dots &amp\; Pearls Boutique. We will have special deals\, prizes\, drawings\, snacks&nbsp\;and lots of fashion for Women and Tween!! 
LOCATION:538 Broad Street Gadsden AL 35901
UID:e.1432.381541
SEQUENCE:3
DTSTAMP:20260422T215902Z
URL:http://business.etowahchamber.org/events/details/polka-dots-pearls-boutique-1-year-anniversary-08-02-2012-381541
END:VEVENT

END:VCALENDAR
