BEGIN:VCALENDAR
VERSION:2.0
PRODID:-//ChamberMaster//Event Calendar 2.0//EN
METHOD:PUBLISH
X-PUBLISHED-TTL:P3D
REFRESH-INTERVAL:P3D
CALSCALE:GREGORIAN
BEGIN:VEVENT
DTSTART:20140919T220000Z
DTEND:20140920T010000Z
X-MICROSOFT-CDO-ALLDAYEVENT:FALSE
SUMMARY:Prevention & Recovery Rally
DESCRIPTION:Prevention & Recovery Rally Sponsored by CED Mental Health Center\n\nGuest Speakers:\n\n\n	Judge Ogletree\n	 Carla Buggs\n	Pam Butler\n	Porter Shields\n\nEntertainment by:\n\n\n	Charlie Mitchell\n\nFood will be served!!
X-ALT-DESC;FMTTYPE=text/html:<strong>Prevention &amp\; Recovery Rally Sponsored by&nbsp\;CED Mental Health Center<br />\nGuest Speakers:</strong>\n\n<ul>\n	<li>Judge Ogletree</li>\n	<li>&#8203\;Carla Buggs</li>\n	<li>Pam Butler</li>\n	<li>Porter Shields</li>\n</ul>\n<strong>Entertainment by:</strong>\n\n<ul>\n	<li>Charlie Mitchell</li>\n</ul>\n<strong>Food will be served!!</strong>
LOCATION:CornerStone Church 530 Chestnut Street Gadsden\, AL 35904
UID:e.1432.384944
SEQUENCE:3
DTSTAMP:20260422T143758Z
URL:http://business.etowahchamber.org/events/details/prevention-recovery-rally-09-19-2014-384944
END:VEVENT

END:VCALENDAR
