BEGIN:VCALENDAR
VERSION:2.0
PRODID:-//ChamberMaster//Event Calendar 2.0//EN
METHOD:PUBLISH
X-PUBLISHED-TTL:P3D
REFRESH-INTERVAL:P3D
CALSCALE:GREGORIAN
BEGIN:VEVENT
DTSTART:20130710T180000Z
DTEND:20130711T220000Z
X-MICROSOFT-CDO-ALLDAYEVENT:FALSE
SUMMARY:Princess Dance Camp at Alabama Entertainers
DESCRIPTION:Come join us for PRINCESS DANCE CAMP at Alabama Entertainers Talent Company (otherwise known as AETC) \nOn July 10th & 11th\, students ages 3-12 can learn ballet\, tap & jazz dance in a 2 day dance workshop that includes a visit from a real princess.\n\nOur princess guest will join them in a real tea party and even teach them about table etiquette as well as dance with them.\n\nThe cost of the 2 day camp is $40 and you can register by phone.\n\nCall Alabama Entertainers at 256-393-5222 or email at alentertainers@aol.com
X-ALT-DESC;FMTTYPE=text/html:<h3 style="color: blue\;">\n	Come join us for PRINCESS DANCE CAMP at Alabama Entertainers Talent Company (otherwise known as AETC)&nbsp\;</h3>\nOn July 10th &amp\; 11th\, students ages 3-12 can learn ballet\, tap &amp\; jazz dance in a 2&nbsp\;day dance workshop that includes a visit from a real princess.<br />\nOur princess guest will join them in a real tea party and&nbsp\;even teach them about table etiquette as well as dance with them.<br />\nThe cost of the 2 day camp is $40 and you can&nbsp\;register by phone.<br />\nCall Alabama Entertainers at 256-393-5222 or email&nbsp\;at <a href="mailto:alentertainers@aol.com">alentertainers@aol.com</a><br />\n<br />\n&nbsp\;&nbsp\;&nbsp\;&nbsp\;<br />\n
LOCATION:601 3rd Street NW Attalla Al 35954 (across from the Attalla Police Station)
UID:e.1432.383331
SEQUENCE:3
DTSTAMP:20260423T090619Z
URL:http://business.etowahchamber.org/events/details/princess-dance-camp-at-alabama-entertainers-07-10-2013-383331
END:VEVENT

END:VCALENDAR
