BEGIN:VCALENDAR
VERSION:2.0
PRODID:-//ChamberMaster//Event Calendar 2.0//EN
METHOD:PUBLISH
X-PUBLISHED-TTL:P3D
REFRESH-INTERVAL:P3D
CALSCALE:GREGORIAN
BEGIN:VEVENT
DTSTART;VALUE=DATE:20121020
DTEND;VALUE=DATE:20121021
TRANSP:TRANSPARENT
X-MICROSOFT-CDO-ALLDAYEVENT:TRUE
SUMMARY:Pumpkin Carving Contest and Outdoor Event
DESCRIPTION:Dive Land Park will be hosting its last Outdoor Event and Scheduled Night Dive for the 2012 season October 20th along with the 1st Annual Underwater* and Above Water Pumpkin Carving Contest. Prizes will be awarded to winners of both catagories along with hourly door prizes throughout the day. All contestants must be registered by 12noon day of contest and provide their own unmarked and cleaned pumpkin for the contest. Rules can be viewed at the Events page at www.facebook.com/divelandpark.\n\n  Prizes provided by "Blackbeards Cruises"/ Nassau Bahamas\, Emerald Coast Scuba/Destin Fla to name a few.\n\n\n\n  Entry fee for Pumpkin Carving Contest is $2.50 per person ($5 per scuba team).\n\n\n\n  Daily Entry fee                    $10     Includes entry and entertainment\n\n  SCUBA Diving                    $20  \n\n  Night Dive                           $15\n\n  Day/Night Dive                   $25\n\n\n\n  Live music starts at sunset with the High Energy Band "Blackheart" with their Big Hair/Glam Rock music from the 80s and 90s followed by the "Amberson-Baggett Band" with REAL DEAL southern country rock! Mossburg Karaoke will also be providing karaoke/music during the afternoon up till the bands start and between bands and "Smoke-n-Hot BBQ" will be on hand with their AWARD winning food and fixings!\n\n  Bring your lawn chairs/blankets along with your cooler and favorite beverages (NO GLASS) and enjoy the day!\n\n\n\n  * Must be SCUBA certified to participate in UW portion of contest.
X-ALT-DESC;FMTTYPE=text/html:&nbsp\; Dive Land Park will be hosting its last Outdoor Event and Scheduled Night Dive for the 2012 season October 20th along with the 1st Annual Underwater* and Above Water Pumpkin Carving Contest. Prizes will be awarded to winners of both catagories along with hourly door prizes throughout the day. All contestants must be registered by 12noon day of contest and provide their own unmarked and cleaned pumpkin for the contest. Rules can be viewed at the Events page at <a href="http://www.facebook.com/divelandpark">www.facebook.com/divelandpark</a>.<br />\n&nbsp\; Prizes provided by &quot\;Blackbeards Cruises&quot\;/ Nassau Bahamas\, Emerald Coast Scuba/Destin Fla to name a few.<br />\n<br />\n&nbsp\; Entry fee for Pumpkin Carving Contest is $2.50 per person ($5 per scuba team).<br />\n<br />\n&nbsp\; Daily Entry fee&nbsp\;&nbsp\;&nbsp\;&nbsp\;&nbsp\;&nbsp\;&nbsp\;&nbsp\;&nbsp\;&nbsp\;&nbsp\;&nbsp\;&nbsp\;&nbsp\;&nbsp\;&nbsp\;&nbsp\;&nbsp\;&nbsp\; $10&nbsp\;&nbsp\;&nbsp\;&nbsp\; Includes entry and entertainment<br />\n&nbsp\; SCUBA Diving&nbsp\;&nbsp\;&nbsp\;&nbsp\;&nbsp\;&nbsp\;&nbsp\;&nbsp\;&nbsp\;&nbsp\;&nbsp\;&nbsp\;&nbsp\;&nbsp\;&nbsp\;&nbsp\;&nbsp\;&nbsp\;&nbsp\; $20&nbsp\;&nbsp\;<br />\n&nbsp\; Night Dive&nbsp\;&nbsp\;&nbsp\;&nbsp\;&nbsp\;&nbsp\;&nbsp\;&nbsp\;&nbsp\;&nbsp\;&nbsp\;&nbsp\;&nbsp\;&nbsp\;&nbsp\;&nbsp\;&nbsp\;&nbsp\;&nbsp\;&nbsp\;&nbsp\;&nbsp\;&nbsp\;&nbsp\;&nbsp\; &nbsp\;$15<br />\n&nbsp\; Day/Night Dive&nbsp\;&nbsp\;&nbsp\;&nbsp\;&nbsp\;&nbsp\;&nbsp\;&nbsp\;&nbsp\;&nbsp\;&nbsp\;&nbsp\;&nbsp\;&nbsp\;&nbsp\;&nbsp\;&nbsp\;&nbsp\;&nbsp\;$25<br />\n<br />\n&nbsp\; Live music starts at sunset with the High Energy Band &quot\;Blackheart&quot\; with their Big Hair/Glam Rock music from the 80s and 90s followed by the &quot\;Amberson-Baggett Band&quot\; with REAL DEAL southern country rock! Mossburg Karaoke will also be providing karaoke/music during the afternoon up till the bands start and between bands and &quot\;Smoke-n-Hot BBQ&quot\; will be on hand with their AWARD winning food and fixings!<br />\n&nbsp\; Bring your lawn chairs/blankets along with your cooler and favorite beverages (NO GLASS) and enjoy the day!<br />\n<br />\n&nbsp\; * Must be SCUBA certified to participate in UW portion of contest.<br />\n&nbsp\;&nbsp\;<br />\n<br />\n
LOCATION:Dive Land Park 401 Webster Chapel Road Glencoe Al 35905
UID:e.1432.382778
SEQUENCE:3
DTSTAMP:20260423T020449Z
URL:http://business.etowahchamber.org/events/details/pumpkin-carving-contest-and-outdoor-event-10-20-2012-382778
END:VEVENT

END:VCALENDAR
