BEGIN:VCALENDAR
VERSION:2.0
PRODID:-//ChamberMaster//Event Calendar 2.0//EN
METHOD:PUBLISH
X-PUBLISHED-TTL:P3D
REFRESH-INTERVAL:P3D
CALSCALE:GREGORIAN
BEGIN:VEVENT
DTSTART:20120913T130000Z
DTEND:20120913T190000Z
X-MICROSOFT-CDO-ALLDAYEVENT:FALSE
SUMMARY:Quality of Life Golf Tournament
DESCRIPTION:The First Annual Quality of Life Golf Tournament raises money for the Quality of Life Education Scholarship. This four man scramble\, played at the wonderful Silver Lakes golf course\, will begin with a shotgun start at 9:00 a.m. Sept. 13th.  The cost is $75 with lunch included. Prizes for the 1st\, 2nd\, and 3rd place teams. Join us for a great round of golf for a great cause.
X-ALT-DESC;FMTTYPE=text/html:The First Annual Quality of Life Golf Tournament raises money for the Quality of Life Education Scholarship. This four man scramble\, played at the wonderful Silver Lakes golf course\, will begin with a shotgun start at 9:00 a.m. Sept. 13th.&nbsp\; The cost is $75 with lunch included. Prizes for the 1st\, 2nd\, and 3rd place teams. Join us for a great round of golf for a great cause.
LOCATION:Robert Trent Jones Golf Trail at Silver Lakes\, Glencoe
UID:e.1432.382750
SEQUENCE:3
DTSTAMP:20260422T232001Z
URL:http://business.etowahchamber.org/events/details/quality-of-life-golf-tournament-09-13-2012-382750
END:VEVENT

END:VCALENDAR
