BEGIN:VCALENDAR
VERSION:2.0
PRODID:-//ChamberMaster//Event Calendar 2.0//EN
METHOD:PUBLISH
X-PUBLISHED-TTL:P3D
REFRESH-INTERVAL:P3D
CALSCALE:GREGORIAN
BEGIN:VEVENT
DTSTART:20190722T120000Z
DTEND:20190722T170000Z
X-MICROSOFT-CDO-ALLDAYEVENT:FALSE
SUMMARY:Rainbow City Farmers Market
DESCRIPTION:Rainbow City Farmers Market is held every Monday & Wednesday\, June-October.
X-ALT-DESC;FMTTYPE=text/html:<span style="font-size:16px\;"><span style="font-family:arial\;">Rainbow City Farmers Market is held every Monday &amp\; Wednesday\, June-October.</span></span>
LOCATION:Rainbow City Municipal Bulding Parking Lot 3700 Rainbow Drive Rainbow City\, AL 35906
UID:e.1432.401196
SEQUENCE:3
DTSTAMP:20260422T053700Z
URL:http://business.etowahchamber.org/events/details/rainbow-city-farmers-market-07-22-2019-401196
END:VEVENT

END:VCALENDAR
