BEGIN:VCALENDAR
VERSION:2.0
PRODID:-//ChamberMaster//Event Calendar 2.0//EN
METHOD:PUBLISH
X-PUBLISHED-TTL:P3D
REFRESH-INTERVAL:P3D
CALSCALE:GREGORIAN
BEGIN:VEVENT
DTSTART:20201016T160000Z
DTEND:20201016T180000Z
X-MICROSOFT-CDO-ALLDAYEVENT:FALSE
SUMMARY:Rebuild My Town: South Presented by Spectrum Reach
DESCRIPTION:Rebuild My Town: South\n\nInsights and ideas to grow your business\n\n\n\nHear from entrepreneurs and local marketing experts.\n\nSpectrum Reach has partnered with entrepreneurs and marketing experts to share key insights and ideas that are helping businesses rebuild.\n\n\n\nFeaturing Speakers:\n\n	Chip and Joanna Gaines of Magnolia Network\n	Pat Kiernan\, Host\n	Vinny and DJ Pauly D of Jersey Shore and Double Shot of Love\n	Michael Guth\, Senior VP\, Chief Marketing Officer of Spectrum Reach\n\n\n\nYour South Event Lineup\n\nWalk away inspired and ready to rebuild.\n\n\n\nTopics Covered\n\nBusinesses that have shifted their consumer engagement tactics and enhanced their outreach messaging are seeing a greater rise in customer return. Uncover the tactics that are working in today's unprecedented times.\n\n\n\nSpectrum Reach's priority is to support local businesses as they navigate this new environment. We'll talk with local businesses about how they were able to stay the course\, how Spectrum Reach is a resource in their advertising\, and why building great relationships is the key to success. Plus\, be the first to hear about exciting new content and how best to partner with Spectrum Reach to grow your business in 2021.\n\n\n\nAdditional Info\n\nAttendees will be eligible to win a gift pack of Chip and Jo's Magnolia Market home items\, valued at $500!
X-ALT-DESC;FMTTYPE=text/html:<span style="font-size:16px\;"><span style="font-family:arial\;"><a href="https://chambermaster.blob.core.windows.net/userfiles/UserFiles/chambers/1432/File/Spectrum-RMTWebinarFlyer.pdf"><span style="color:#0000FF\;"><span style="font-size:20px\;"><u><strong>Rebuild My Town: South</strong></u></span></span></a><br />\nInsights and ideas to grow your business<br />\n<br />\n<strong>Hear from entrepreneurs and local marketing experts.</strong><br />\nSpectrum Reach has partnered with entrepreneurs and marketing experts to share key insights and ideas that are helping businesses rebuild.<br />\n<br />\n<a href="https://rebuild.spectrumreach.com/webinars/marketing-speaker-series-south?utm_source=gadsdencoc&amp\;utm_medium=affiliate&amp\;utm_content=virtualupfront_southeast&amp\;utm_campaign=80002020q4locupfront"><span style="color:#0000FF\;"><strong>Featuring Speakers:</strong></span></a></span></span>\n<ul>\n	<li><span style="font-size:16px\;"><span style="font-family:arial\;">Chip and Joanna Gaines of Magnolia Network</span></span></li>\n	<li><span style="font-size:16px\;"><span style="font-family:arial\;">Pat Kiernan\, Host</span></span></li>\n	<li><span style="font-size:16px\;"><span style="font-family:arial\;">Vinny and DJ Pauly D of Jersey Shore and Double Shot of Love</span></span></li>\n	<li><span style="font-size:16px\;"><span style="font-family:arial\;">Michael Guth\, Senior VP\, Chief Marketing Officer of Spectrum Reach</span></span></li>\n</ul>\n<br />\n<span style="font-size:16px\;"><span style="font-family:arial\;"><strong><a href="https://rebuild.spectrumreach.com/webinars/marketing-speaker-series-south?utm_source=gadsdencoc&amp\;utm_medium=affiliate&amp\;utm_content=virtualupfront_southeast&amp\;utm_campaign=80002020q4locupfront"><span style="color:#0000FF\;"><span style="font-size:20px\;"><u>Your South Event Lineup</u></span></span></a><br />\nWalk away inspired and ready to rebuild.</strong><br />\n<br />\n<strong>Topics Covered</strong><br />\nBusinesses that have shifted their consumer engagement tactics and enhanced their outreach messaging are seeing a greater rise in customer return. Uncover the tactics that are working in today&rsquo\;s unprecedented times.<br />\n<br />\nSpectrum Reach&#39\;s priority is to support local businesses as they navigate this new environment. We&rsquo\;ll talk with local businesses about how they were able to stay the course\, how Spectrum Reach is a resource in their advertising\, and why building great relationships is the key to success. Plus\, be the first to hear about exciting new content and how best to partner with Spectrum Reach to grow your business in 2021.<br />\n<br />\n<strong>Additional Info</strong><br />\nAttendees will be eligible to win a gift pack of Chip and Jo&#39\;s Magnolia Market home items\, valued at $500!</span></span>
LOCATION:
UID:e.1432.403303
SEQUENCE:3
DTSTAMP:20260421T082029Z
URL:http://business.etowahchamber.org/events/details/rebuild-my-town-south-presented-by-spectrum-reach-403303
END:VEVENT

END:VCALENDAR
