BEGIN:VCALENDAR
VERSION:2.0
PRODID:-//ChamberMaster//Event Calendar 2.0//EN
METHOD:PUBLISH
X-PUBLISHED-TTL:P3D
REFRESH-INTERVAL:P3D
CALSCALE:GREGORIAN
BEGIN:VEVENT
DTSTART:20130820T160000Z
DTEND:20130820T210000Z
X-MICROSOFT-CDO-ALLDAYEVENT:FALSE
SUMMARY:Red Cross Blood Drive
DESCRIPTION:Red Cross is hosting a blood drive at Popeyes. \n\nEach donation gets a free 2 piece dinner!
X-ALT-DESC;FMTTYPE=text/html:Red Cross is hosting a blood drive at Popeyes.&nbsp\;<br />\nEach donation gets a free 2 piece dinner!
LOCATION:Popeyes Restaurant on East Meighan
UID:e.1432.383767
SEQUENCE:3
DTSTAMP:20260423T075338Z
URL:http://business.etowahchamber.org/events/details/red-cross-blood-drive-08-20-2013-383767
END:VEVENT

END:VCALENDAR
