BEGIN:VCALENDAR
VERSION:2.0
PRODID:-//ChamberMaster//Event Calendar 2.0//EN
METHOD:PUBLISH
X-PUBLISHED-TTL:P3D
REFRESH-INTERVAL:P3D
CALSCALE:GREGORIAN
BEGIN:VEVENT
DTSTART:20130622T150000Z
DTEND:20130622T220000Z
X-MICROSOFT-CDO-ALLDAYEVENT:FALSE
SUMMARY:Redneck Yacht Club Customer Appreciation Day!
DESCRIPTION:Redneck Yacht Club Customer Appreciation Day!  Saturday\, June 22nd from 10am - 5pm.  Come Float!!!  Live Band and Great Food!!!  \n\n\n\nPersonal Boat Launch Fee $5.00 per boat\n\nTent Camping - $30 per night water and power included\n\nCampers and Camp Sites $30 per night with hook-ups\n\nKayak Rental $30 per day\n\nCanoe Rentals $40 per day\n\nCabin Rentals $125 to $200 per night\n\n\n\nRedneck Yacht Club - 3850 County Road 175\, Piedmont\, AL\n\nOwners:  Hank and Teresa Nelson\n\n256-504-8690/256-504-3748/256-447-8690\n\nwww.redneckyachtclubcanoeandkayakrental.com
X-ALT-DESC;FMTTYPE=text/html:Redneck Yacht Club Customer Appreciation Day! &nbsp\;Saturday\, June 22nd from 10am - 5pm. &nbsp\;Come Float!!! &nbsp\;Live Band and Great Food!!! &nbsp\;<br />\n<br />\nPersonal Boat Launch Fee $5.00 per boat<br />\nTent Camping - $30 per night water and power included<br />\nCampers and Camp Sites $30 per night with hook-ups<br />\nKayak Rental $30 per day<br />\nCanoe Rentals $40 per day<br />\nCabin Rentals $125 to $200 per night<br />\n<br />\nRedneck Yacht Club - 3850 County Road 175\, Piedmont\, AL<br />\nOwners: &nbsp\;Hank and Teresa Nelson<br />\n256-504-8690/256-504-3748/256-447-8690<br />\nwww.redneckyachtclubcanoeandkayakrental.com&nbsp\;
LOCATION:Redneck Yacht Club - 3850 County Road 175\, Piedmont\, AL Owners: Hank and Teresa Nelson 256-504-8690/256-504-3748/256-447-8690 www.redneckyachtclubcanoeandkayakrental.com
UID:e.1432.383302
SEQUENCE:3
DTSTAMP:20260423T103317Z
URL:http://business.etowahchamber.org/events/details/redneck-yacht-club-customer-appreciation-day-06-22-2013-383302
END:VEVENT

END:VCALENDAR
