BEGIN:VCALENDAR
VERSION:2.0
PRODID:-//ChamberMaster//Event Calendar 2.0//EN
METHOD:PUBLISH
X-PUBLISHED-TTL:P3D
REFRESH-INTERVAL:P3D
CALSCALE:GREGORIAN
BEGIN:VEVENT
DTSTART:20141204T210000Z
DTEND:20141205T000000Z
X-MICROSOFT-CDO-ALLDAYEVENT:FALSE
SUMMARY:Regency Pointe's Annual Holiday Carousel of Shops
DESCRIPTION:You're invited to our annual holiday shopping event!\n\nWe'll have some of the area's finest businesses offering unique gift ideas and must have holiday items. You'll be treated to some wonderful holiday hors d'oeuvres\, desserts and beverages while you stroll through our beautifully decorated Grande Clubhouse. It's the most magical time of year\, so be sure join us for fun and good times.\n\nLocal Merchants Include:\n\n\n	Holiday Items\n	Crafts\n	Baskets\n	Jewelry\n	Kitchenware\n	Cosmetics\n	Accessories\n	Adult & Children's Clothing\n	And Much More!
X-ALT-DESC;FMTTYPE=text/html:<strong>You&rsquo\;re invited to our annual holiday shopping event!</strong><br />\nWe&rsquo\;ll have some of the area&rsquo\;s finest businesses offering unique gift ideas and must&nbsp\;have holiday items. You&rsquo\;ll be treated to some wonderful holiday hors d&rsquo\;oeuvres\,&nbsp\;desserts and beverages while you stroll through our beautifully decorated&nbsp\;Grande Clubhouse. It&rsquo\;s the most magical time of year\, so be sure join us&nbsp\;for fun and good times.<br />\n<strong>Local Merchants Include:</strong>\n\n<ul>\n	<li>Holiday Items</li>\n	<li>Crafts</li>\n	<li>Baskets</li>\n	<li>Jewelry</li>\n	<li>Kitchenware</li>\n	<li>Cosmetics</li>\n	<li>Accessories</li>\n	<li>Adult &amp\; Children&#39\;s Clothing</li>\n	<li>And Much More!</li>\n</ul>\n
LOCATION:Regency Pointe 510 East Grand Avenue Rainbow City\, AL 35906
UID:e.1432.385393
SEQUENCE:3
DTSTAMP:20260422T105330Z
URL:http://business.etowahchamber.org/events/details/regency-pointe-s-annual-holiday-carousel-of-shops-12-04-2014-385393
END:VEVENT

END:VCALENDAR
