BEGIN:VCALENDAR
VERSION:2.0
PRODID:-//ChamberMaster//Event Calendar 2.0//EN
METHOD:PUBLISH
X-PUBLISHED-TTL:P3D
REFRESH-INTERVAL:P3D
CALSCALE:GREGORIAN
BEGIN:VEVENT
DTSTART:20190427T230000Z
DTEND:20190428T010000Z
X-MICROSOFT-CDO-ALLDAYEVENT:FALSE
SUMMARY:Relay for Life 2019
DESCRIPTION:Click Here for Information and to Register
X-ALT-DESC;FMTTYPE=text/html:<span style="font-size:16px\;"><span style="font-family:arial\;"><strong><a href="http://main.acsevents.org/site/TR/RelayForLife/RFLCY19SOR?pg=entry&amp\;fr_id=91571"><span style="color:#0000FF\;">Click Here for Information and to Register</span></a></strong></span></span>
LOCATION:Moragne Park Gadsden\, AL 35901
UID:e.1432.398778
SEQUENCE:3
DTSTAMP:20260422T061134Z
URL:http://business.etowahchamber.org/events/details/relay-for-life-2019-398778
END:VEVENT

END:VCALENDAR
