BEGIN:VCALENDAR
VERSION:2.0
PRODID:-//ChamberMaster//Event Calendar 2.0//EN
METHOD:PUBLISH
X-PUBLISHED-TTL:P3D
REFRESH-INTERVAL:P3D
CALSCALE:GREGORIAN
BEGIN:VEVENT
DTSTART:20130628T160000Z
DTEND:20130628T180000Z
X-MICROSOFT-CDO-ALLDAYEVENT:FALSE
SUMMARY:Relay for Life fundraiser at Alabama Teachers Credit Union
DESCRIPTION:Join Alabama Teachers Credit Union for a Relay for Life fundrasier featuring\, balloon twisting\, face painting and Rib Bones BBQ!
X-ALT-DESC;FMTTYPE=text/html:Join Alabama Teachers Credit Union for a Relay for Life fundrasier featuring\, balloon twisting\, face painting and Rib Bones BBQ!
LOCATION:ATCU 702 Walnut Street Gadsden AL 35901
UID:e.1432.383304
SEQUENCE:3
DTSTAMP:20260423T103231Z
URL:http://business.etowahchamber.org/events/details/relay-for-life-fundraiser-at-alabama-teachers-credit-union-06-28-2013-383304
END:VEVENT

END:VCALENDAR
