BEGIN:VCALENDAR
VERSION:2.0
PRODID:-//ChamberMaster//Event Calendar 2.0//EN
METHOD:PUBLISH
X-PUBLISHED-TTL:P3D
REFRESH-INTERVAL:P3D
CALSCALE:GREGORIAN
BEGIN:VEVENT
DTSTART:20140425T230000Z
DTEND:20140426T020000Z
X-MICROSOFT-CDO-ALLDAYEVENT:FALSE
SUMMARY:Relay for LIfe of Etowah County
DESCRIPTION:
X-ALT-DESC;FMTTYPE=text/html:
LOCATION:1917 Black Creek Pkwy\, Gadsden
UID:e.1432.384438
SEQUENCE:3
DTSTAMP:20260422T211131Z
URL:http://business.etowahchamber.org/events/details/relay-for-life-of-etowah-county-04-25-2014-384438
END:VEVENT

END:VCALENDAR
