BEGIN:VCALENDAR
VERSION:2.0
PRODID:-//ChamberMaster//Event Calendar 2.0//EN
METHOD:PUBLISH
X-PUBLISHED-TTL:P3D
REFRESH-INTERVAL:P3D
CALSCALE:GREGORIAN
BEGIN:VEVENT
DTSTART;VALUE=DATE:20140428
DTEND;VALUE=DATE:20140504
TRANSP:TRANSPARENT
X-MICROSOFT-CDO-ALLDAYEVENT:TRUE
SUMMARY:Renew Our Rivers/ Keep Etowah Beautiful
DESCRIPTION:Each year\, volunteers and corporate partners\, such as Alabama Power\, the City of Gadsden and the Etowah County Sheriff's Office\, fan out to collect trash from the Coosa River. Volunteers over the years have ranged from 2 years old to in their eighties\, Dover said. But the drive began when a local resident grew concerned about the amount of trash choking the river's waters.
X-ALT-DESC;FMTTYPE=text/html:<span style="color: rgb(54\, 54\, 54)\; font-family: Georgia\, serif\; font-size: 16px\; line-height: 24px\;">Each year\, volunteers and corporate partners\, such as Alabama Power\, the City of Gadsden and the Etowah County Sheriff&#39\;s Office\, fan out to collect trash from the Coosa River. Volunteers over the years have ranged from 2 years old to in their eighties\, Dover said. But the drive began when a local resident grew concerned about the amount of trash choking the river&#39\;s waters.</span>
LOCATION:
UID:e.1432.384316
SEQUENCE:3
DTSTAMP:20260422T195105Z
URL:http://business.etowahchamber.org/events/details/renew-our-rivers-keep-etowah-beautiful-04-28-2014-384316
END:VEVENT

END:VCALENDAR
