BEGIN:VCALENDAR
VERSION:2.0
PRODID:-//ChamberMaster//Event Calendar 2.0//EN
METHOD:PUBLISH
X-PUBLISHED-TTL:P3D
REFRESH-INTERVAL:P3D
CALSCALE:GREGORIAN
BEGIN:VEVENT
DTSTART:20190227T200000Z
DTEND:20190227T210000Z
X-MICROSOFT-CDO-ALLDAYEVENT:FALSE
SUMMARY:Ribbon Cutting at Gadsden Regional Imaging(New MRI)
DESCRIPTION:Join The Chamber for a Ribbon Cutting at Gadsden Regional Imaging for their recently installed MRI machine. Their new MRI is an open bore designed to reduce patient anxiety and claustrophobia. The MRI can scan the entire body with minimal vibration and noise and provides quick scans for faster exam times.\n\n\n\nHear remarks from Corey Ewing\, CEO\, Penny Carr\, Director\, and Dr. David Simmons\, Radiologist\, at the imaging center. Take a tour and enjoy refreshments following the ribbon cutting event. Visit them online at Gadsden Regional before the event to learn more!
X-ALT-DESC;FMTTYPE=text/html:<span style="font-size:16px\;"><span style="font-family:arial\;">Join The Chamber for a Ribbon Cutting at Gadsden Regional Imaging for their recently installed MRI machine. Their&nbsp\;new MRI is an open bore designed to reduce patient anxiety and claustrophobia. The MRI can scan the entire body with minimal vibration and noise and provides quick scans for faster exam times.<br />\n<br />\nHear remarks from Corey Ewing\, CEO\, Penny Carr\, Director\, and Dr. David Simmons\, Radiologist\, at the imaging center. Take a tour and enjoy refreshments following the ribbon cutting event. Visit them online at <a href="https://www.facebook.com/GadsdenRegionalMedicalCenterAL/"><b><span style="color:#0000FF\;">Gadsden Regional</span></b></a>&nbsp\;before the event to learn more!</span></span>
LOCATION:Gadsden Regional Imaging 3502-B Rainbow Drive Rainbow City\, AL 35906
UID:e.1432.398759
SEQUENCE:3
DTSTAMP:20260421T215200Z
URL:http://business.etowahchamber.org/events/details/ribbon-cutting-at-gadsden-regional-imaging-new-mri-398759
END:VEVENT

END:VCALENDAR
