BEGIN:VCALENDAR
VERSION:2.0
PRODID:-//ChamberMaster//Event Calendar 2.0//EN
METHOD:PUBLISH
X-PUBLISHED-TTL:P3D
REFRESH-INTERVAL:P3D
CALSCALE:GREGORIAN
BEGIN:VEVENT
DTSTART:20200107T220000Z
DTEND:20200107T230000Z
X-MICROSOFT-CDO-ALLDAYEVENT:FALSE
SUMMARY:Ribbon Cutting at Gadsden State Community College: Allen Hall
DESCRIPTION:Join The Chamber for a Ribbon Cutting at Gadsden State Community College's recently renovated Allen Hall! Come see the recently completed renovations at Allen Hall on the Wallace Drive Campus and hear remarks from Gadsden State President Dr. Martha Lavender. Enjoy refreshments following the ribbon cutting and take a tour of the newly renovated Allen Hall! Check them out online at Gadsden State Community College before the ribbon cutting!
X-ALT-DESC;FMTTYPE=text/html:<span style="font-size:16px\;"><span style="font-family:arial\;">Join The Chamber for a Ribbon Cutting at Gadsden State Community College&#39\;s recently renovated Allen Hall! Come see the recently completed renovations at Allen Hall on the Wallace Drive Campus and hear remarks from Gadsden State President Dr. Martha Lavender. Enjoy refreshments following the ribbon cutting and t</span></span><span style="font-family: arial\; font-size: 16px\;">ake a tour of the newly renovated Allen Hall</span><span style="font-size:16px\;"><span style="font-family:arial\;">! Check them out online at<font color="#0000ff">&nbsp\;</font><a href="https://www.facebook.com/gadsdenstate/"><span style="color:#0000FF\;"><b>Gadsden State Community College</b></span></a><font color="#0000ff">&nbsp\;</font>before the ribbon cutting!</span></span>
LOCATION:Gadsden State Community College- Allen Hall
UID:e.1432.401805
SEQUENCE:3
DTSTAMP:20260420T025036Z
URL:http://business.etowahchamber.org/events/details/ribbon-cutting-at-gadsden-state-community-college-allen-hall-401805
END:VEVENT

END:VCALENDAR
