BEGIN:VCALENDAR
VERSION:2.0
PRODID:-//ChamberMaster//Event Calendar 2.0//EN
METHOD:PUBLISH
X-PUBLISHED-TTL:P3D
REFRESH-INTERVAL:P3D
CALSCALE:GREGORIAN
BEGIN:VEVENT
DTSTART:20201002T210000Z
DTEND:20201002T220000Z
X-MICROSOFT-CDO-ALLDAYEVENT:FALSE
SUMMARY:Ribbon Cutting at Gadsden Variety & Cafe(new ownership)
DESCRIPTION:Join the The Chamber & Gadsden Variety & Cafe for a ribbon cutting celebrating the recent change in ownership! Come meet the "New" owners\, enjoy refreshments following the ribbon cutting\, and stick around to browse at the store.\n\n\n\nAll attendees are required follow ADPH guidelines regarding COVID-19 by maintaining proper social distancing & wearing a face covering.
X-ALT-DESC;FMTTYPE=text/html:<span style="font-family:arial\;"><span style="font-size:16px\;"><span style="box-sizing: border-box\; margin: 0px\; padding: 0px\; border: 0px\; font-variant-numeric: inherit\; font-variant-east-asian: inherit\; font-stretch: inherit\; line-height: inherit\; vertical-align: baseline\; color: rgb(43\, 39\, 44)\;"><span style="box-sizing: border-box\; margin: 0px\; padding: 0px\; border: 0px\; font-style: inherit\; font-variant: inherit\; font-weight: inherit\; font-stretch: inherit\; line-height: inherit\; vertical-align: baseline\;"><span style="box-sizing: border-box\; margin: 0px\; padding: 0px\; border: 0px\; font-style: inherit\; font-variant: inherit\; font-weight: inherit\; font-stretch: inherit\; line-height: inherit\; vertical-align: baseline\;">Join the The Chamber &amp\; Gadsden Variety &amp\; Cafe for a ribbon cutting celebrating the recent change in ownership!&nbsp\;</span></span></span><span style="box-sizing: border-box\; margin: 0px\; padding: 0px\; border: 0px\; font-variant-numeric: inherit\; font-variant-east-asian: inherit\; font-stretch: inherit\; line-height: inherit\; vertical-align: baseline\; color: rgb(43\, 39\, 44)\;"><span style="box-sizing: border-box\; margin: 0px\; padding: 0px\; border: 0px\; font-style: inherit\; font-variant: inherit\; font-weight: inherit\; font-stretch: inherit\; line-height: inherit\; vertical-align: baseline\;">Come meet the &quot\;New&quot\; owners\, enjoy refreshments following the ribbon cutting\, and stick around to browse at the store.</span></span><br style="box-sizing: border-box\; color: rgb(43\, 39\, 44)\; font-family: franklin-gothic-urw-comp\; font-size: 18px\;" />\n<br style="box-sizing: border-box\; color: rgb(43\, 39\, 44)\; font-family: franklin-gothic-urw-comp\; font-size: 18px\;" />\n<span style="box-sizing: border-box\; margin: 0px\; padding: 0px\; border: 0px\; font-variant-numeric: inherit\; font-variant-east-asian: inherit\; font-weight: bolder\; font-stretch: inherit\; line-height: inherit\; vertical-align: baseline\; color: rgb(43\, 39\, 44)\;"><span style="box-sizing: border-box\; margin: 0px\; padding: 0px\; border: 0px\; font-style: inherit\; font-variant: inherit\; font-weight: inherit\; font-stretch: inherit\; line-height: inherit\; vertical-align: baseline\;"><span style="box-sizing: border-box\; margin: 0px\; padding: 0px\; border: 0px\; font-style: inherit\; font-variant: inherit\; font-weight: inherit\; font-stretch: inherit\; line-height: inherit\; vertical-align: baseline\;"><span style="box-sizing: border-box\; margin: 0px\; padding: 0px\; border: 0px\; font-style: inherit\; font-variant: inherit\; font-weight: inherit\; font-stretch: inherit\; line-height: inherit\; vertical-align: baseline\; background-color: rgb(255\, 255\, 0)\;">All attendees are required follow ADPH guidelines regarding COVID-19 by maintaining proper social distancing &amp\; wearing a face covering.</span></span></span></span></span></span>
LOCATION:Gadsden Variety & Cafe
UID:e.1432.403288
SEQUENCE:3
DTSTAMP:20260421T081944Z
URL:http://business.etowahchamber.org/events/details/ribbon-cutting-at-gadsden-variety-cafe-new-ownership-403288
END:VEVENT

END:VCALENDAR
