BEGIN:VCALENDAR
VERSION:2.0
PRODID:-//ChamberMaster//Event Calendar 2.0//EN
METHOD:PUBLISH
X-PUBLISHED-TTL:P3D
REFRESH-INTERVAL:P3D
CALSCALE:GREGORIAN
BEGIN:VEVENT
DTSTART:20201030T163000Z
DTEND:20201030T173000Z
X-MICROSOFT-CDO-ALLDAYEVENT:FALSE
SUMMARY:Ribbon Cutting at Lagatha's House of Axe
DESCRIPTION:Join the The Chamber & Lagatha's House of Axe for a ribbon cutting at their recently openly location on 3rd Street in Downtown Gadsden! Come meet the owners & staff\, enjoy food & refreshments\, & register for door prizes from Lagatha's House of Axe.\n\n\n\nLagatha's House of Axe is an axe throwing\, vintage video arcade\, & a BYOB facility. Make your reservation and complete your waiver today at http://lagathashouseofaxe.com .\n\n\n\nAll attendees are required follow ADPH guidelines regarding COVID-19 by maintaining proper social distancing & wearing a face covering.
X-ALT-DESC;FMTTYPE=text/html:<span style="box-sizing: border-box\; margin: 0px\; padding: 0px\; border: 0px\; font-variant-numeric: inherit\; font-variant-east-asian: inherit\; font-stretch: inherit\; font-size: 16px\; line-height: inherit\; font-family: arial\; vertical-align: baseline\; outline: 0px\; color: rgb(43\, 39\, 44)\;">Join the The Chamber &amp\; Lagatha&#39\;s House of Axe for a ribbon cutting at their recently openly location on 3rd Street in Downtown Gadsden! Come meet the owners &amp\; staff\, enjoy food &amp\; refreshments\, &amp\; register for door prizes from Lagatha&#39\;s House of Axe.</span><br style="box-sizing: border-box\; color: rgb(43\, 39\, 44)\; font-family: franklin-gothic-urw-comp\; font-size: 18px\;" />\n<br />\n<span style="font-size:16px\;"><span style="font-family:arial\;">Lagatha&#39\;s House of Axe is an axe throwing\, vintage video arcade\, &amp\; a BYOB facility. Make your reservation and complete your waiver today at&nbsp\;<strong><a href="http://lagathashouseofaxe.com/"><span style="color:#0000FF\;">http://lagathashouseofaxe.com</span></a>&nbsp\;.</strong></span></span><br />\n<br style="box-sizing: border-box\; color: rgb(43\, 39\, 44)\; font-family: franklin-gothic-urw-comp\; font-size: 18px\;" />\n<span style="box-sizing: border-box\; margin: 0px\; padding: 0px\; border: 0px\; font-variant-numeric: inherit\; font-variant-east-asian: inherit\; font-weight: 700\; font-stretch: inherit\; font-size: 16px\; line-height: inherit\; font-family: arial\; vertical-align: baseline\; color: rgb(43\, 39\, 44)\; background-color: rgb(255\, 255\, 0)\;">All attendees are required follow ADPH guidelines regarding COVID-19 by maintaining proper social distancing &amp\; wearing a face covering.</span>
LOCATION:Lagatha's House of Axe
UID:e.1432.403447
SEQUENCE:3
DTSTAMP:20260421T082044Z
URL:http://business.etowahchamber.org/events/details/ribbon-cutting-at-lagatha-s-house-of-axe-403447
END:VEVENT

END:VCALENDAR
