BEGIN:VCALENDAR
VERSION:2.0
PRODID:-//ChamberMaster//Event Calendar 2.0//EN
METHOD:PUBLISH
X-PUBLISHED-TTL:P3D
REFRESH-INTERVAL:P3D
CALSCALE:GREGORIAN
BEGIN:VEVENT
DTSTART:20181127T164500Z
DTEND:20181127T180000Z
X-MICROSOFT-CDO-ALLDAYEVENT:FALSE
SUMMARY:Ribbon Cutting at Riverview Regional Medical Center(New CT Suites)
DESCRIPTION:Join The Chamber for a Ribbon Cutting at Riverview Regional Medical Center to celebrate the opening of their BRAND NEW CT suites located on the 3rd floor! Come hear remarks from employees and see the new CT suites. Riverview is the first hospital in the state of Alabama to offer this technology. There will be a presentation and lunch in the 2nd Floor Conference Room from 11 A.M.- 12 P.M. following the ribbon cutting. Visit them on Facebook at Riverview Regional Medical Center before the event!
X-ALT-DESC;FMTTYPE=text/html:<span style="font-size:16px\;"><span style="font-family:arial\;">Join The Chamber for a Ribbon Cutting at Riverview Regional Medical Center to celebrate the opening of their BRAND NEW CT suites located on the 3rd floor! Come hear remarks from employees and see the new CT suites. Riverview is the first hospital in the state of Alabama to offer this technology. There will be a presentation and lunch in the 2nd Floor Conference Room from 11 A.M.- 12 P.M. following the ribbon cutting. Visit them on Facebook at <a href="https://www.facebook.com/SusanHMoore18/"><span style="color:#0000FF\;"><b>Riverview Regional Medical Center</b></span></a>&nbsp\;before the event!</span></span>
LOCATION:Riverview Regional Medical Center 600 South 3rd Street Gadsden\, AL 35901
UID:e.1432.398384
SEQUENCE:3
DTSTAMP:20260421T172443Z
URL:http://business.etowahchamber.org/events/details/ribbon-cutting-at-riverview-regional-medical-center-new-ct-suites-398384
END:VEVENT

END:VCALENDAR
