BEGIN:VCALENDAR
VERSION:2.0
PRODID:-//ChamberMaster//Event Calendar 2.0//EN
METHOD:PUBLISH
X-PUBLISHED-TTL:P3D
REFRESH-INTERVAL:P3D
CALSCALE:GREGORIAN
BEGIN:VEVENT
DTSTART:20201009T210000Z
DTEND:20201009T220000Z
X-MICROSOFT-CDO-ALLDAYEVENT:FALSE
SUMMARY:Ribbon Cutting at Scoop Du Jour Creamery & Desserts
DESCRIPTION:Join the The Chamber & Scoop Du Jour Creamery & Desserts for a ribbon cutting at their recently opened ice cream & dessert bar on Broad Street in Downtown Gadsden! Come congratulate the owners on the new business\, enjoy refreshments following the ribbon cutting\, & register for door prizes.\n\n\n\nAll attendees are required follow ADPH guidelines regarding COVID-19 by maintaining proper social distancing & wearing a face covering.
X-ALT-DESC;FMTTYPE=text/html:<span style="box-sizing: border-box\; margin: 0px\; padding: 0px\; border: 0px\; font-variant-numeric: inherit\; font-variant-east-asian: inherit\; font-stretch: inherit\; font-size: 16px\; line-height: inherit\; font-family: franklin-gothic-urw-comp\; vertical-align: baseline\; color: rgb(43\, 39\, 44)\;"><span style="box-sizing: border-box\; margin: 0px\; padding: 0px\; border: 0px\; font-style: inherit\; font-variant: inherit\; font-weight: inherit\; font-stretch: inherit\; font-size: inherit\; line-height: inherit\; font-family: arial\; vertical-align: baseline\;"><span style="box-sizing: border-box\; margin: 0px\; padding: 0px\; border: 0px\; font: inherit\; vertical-align: baseline\;">Join the The Chamber &amp\; Scoop Du Jour Creamery &amp\; Desserts for a ribbon cutting at their recently opened ice cream &amp\; dessert bar on Broad Street in Downtown Gadsden! Come congratulate the owners on the new business\, enjoy refreshments following the ribbon cutting\, &amp\; register for door prizes.</span></span></span><br />\n<br />\n<span style="color: rgb(43\, 39\, 44)\; font-family: arial\; font-size: 16px\; font-weight: 700\; background-color: rgb(255\, 255\, 0)\;">All attendees are required follow ADPH guidelines regarding COVID-19 by maintaining proper social distancing &amp\; wearing a face covering.</span>
LOCATION:Scoop Du Jour Creamery & Desserts
UID:e.1432.403310
SEQUENCE:3
DTSTAMP:20260423T084822Z
URL:http://business.etowahchamber.org/events/details/ribbon-cutting-at-scoop-du-jour-creamery-desserts-403310
END:VEVENT

END:VCALENDAR
