BEGIN:VCALENDAR
VERSION:2.0
PRODID:-//ChamberMaster//Event Calendar 2.0//EN
METHOD:PUBLISH
X-PUBLISHED-TTL:P3D
REFRESH-INTERVAL:P3D
CALSCALE:GREGORIAN
BEGIN:VEVENT
DTSTART:20181129T170000Z
DTEND:20181129T180000Z
X-MICROSOFT-CDO-ALLDAYEVENT:FALSE
SUMMARY:Ribbon Cutting at The UPS Store
DESCRIPTION:Join The Chamber for a Ribbon Cutting at The UPS Store in Gadsden! Come hear remarks from Jeri Timm and the owners of the new store. The UPS Store has you covered with printing\, shipping\, packing\, and mailbox services! Every attendee will receive a frequent shipper card and 25% off their next print order. Visit them on Facebook at The UPS Store before the event!
X-ALT-DESC;FMTTYPE=text/html:<span style="font-size:16px\;"><span style="font-family:arial\;">Join The Chamber for a Ribbon Cutting at The UPS Store in Gadsden! Come hear remarks from Jeri Timm and the owners of the new store. The UPS Store has you covered with printing\, shipping\, packing\, and mailbox services! Every attendee will receive a frequent shipper card and 25% off their next print order. Visit them on Facebook at <a href="https://www.facebook.com/TheUPSStore7036/"><font color="#0000ff"><b>The UPS Store</b></font></a>&nbsp\;before the event!</span></span>
LOCATION:The UPS Store 430 George Wallace Drive Gadsden\, AL 35903
UID:e.1432.398385
SEQUENCE:3
DTSTAMP:20260421T172113Z
URL:http://business.etowahchamber.org/events/details/ribbon-cutting-at-the-ups-store-398385
END:VEVENT

END:VCALENDAR
