BEGIN:VCALENDAR
VERSION:2.0
PRODID:-//ChamberMaster//Event Calendar 2.0//EN
METHOD:PUBLISH
X-PUBLISHED-TTL:P3D
REFRESH-INTERVAL:P3D
CALSCALE:GREGORIAN
BEGIN:VEVENT
DTSTART:20181114T170000Z
DTEND:20181114T180000Z
X-MICROSOFT-CDO-ALLDAYEVENT:FALSE
SUMMARY:Ribbon Cutting for Academy Sports & Outdoors(Newly Remodeled)
DESCRIPTION:Join The Chamber for a Ribbon Cutting at Academy Sports & Outdoors for their newly remodeled Gadsden store! Come hear remarks from Joey Henderson\, Store Director\, and meet the management of the store. They have recently undergone a complete remodel in the Gadsden location\, so make sure to check it out following the ribbon cutting. Visit them on Facebook at Academy Sports & Outdoors before the event!
X-ALT-DESC;FMTTYPE=text/html:<span style="font-size:16px\;"><span style="font-family:arial\;">Join The Chamber for a Ribbon Cutting at Academy Sports &amp\; Outdoors for their newly remodeled Gadsden store! Come hear remarks from Joey Henderson\, Store Director\, and meet the management of the store. They have recently undergone a complete remodel in the Gadsden location\, so make sure to check it out following the ribbon cutting. Visit them on Facebook at <a href="https://www.facebook.com/AcademyGadsden/"><strong><span style="color:#0000FF\;">Academy Sports &amp\; Outdoors</span></strong></a>&nbsp\;before the event!</span></span>
LOCATION:Academy Sports & Outdoors 601 George Wallace Drive Gadsden\, AL 35903
UID:e.1432.398312
SEQUENCE:3
DTSTAMP:20260421T172523Z
URL:http://business.etowahchamber.org/events/details/ribbon-cutting-for-academy-sports-outdoors-newly-remodeled-398312
END:VEVENT

END:VCALENDAR
