BEGIN:VCALENDAR
VERSION:2.0
PRODID:-//ChamberMaster//Event Calendar 2.0//EN
METHOD:PUBLISH
X-PUBLISHED-TTL:P3D
REFRESH-INTERVAL:P3D
CALSCALE:GREGORIAN
BEGIN:VEVENT
DTSTART:20201015T150000Z
DTEND:20201015T160000Z
X-MICROSOFT-CDO-ALLDAYEVENT:FALSE
SUMMARY:Ribbon Cutting for Alabama Goodwill Industries\, Inc.
DESCRIPTION:Join the The Chamber & Alabama Goodwill Industries\, Inc. for a ribbon cutting & grand opening at their new location in Rainbow City!  Come see the new store & register for $500 in Goodwill Gift Certificates(in $50 & $100 increments).\n\n\n\n*In order to leave spaces open for shoppers\, please park as far away from the store as possible.\n\n\n\nAll attendees are required follow ADPH guidelines regarding COVID-19 by maintaining proper social distancing & wearing a face covering.
X-ALT-DESC;FMTTYPE=text/html:<span style="box-sizing: border-box\; margin: 0px\; padding: 0px\; border: 0px\; font-variant-numeric: inherit\; font-variant-east-asian: inherit\; font-stretch: inherit\; font-size: 16px\; line-height: inherit\; font-family: arial\; vertical-align: baseline\; color: rgb(43\, 39\, 44)\;"><span style="box-sizing: border-box\; margin: 0px\; padding: 0px\; border: 0px\; font: inherit\; vertical-align: baseline\;"><span style="box-sizing: border-box\; margin: 0px\; padding: 0px\; border: 0px\; font: inherit\; vertical-align: baseline\;">Join the The Chamber &amp\; Alabama Goodwill Industries\, Inc. for a ribbon cutting &amp\; grand opening at their new location in Rainbow City!&nbsp\; Come see the new store &amp\; register for $500 in Goodwill Gift Certificates(in $50 &amp\; $100 increments).<br />\n<br />\n<em>*In order to leave spaces open for shoppers\, please park as far away from the store as possible.</em></span></span></span><br style="box-sizing: border-box\; color: rgb(43\, 39\, 44)\; font-family: franklin-gothic-urw-comp\; font-size: 18px\;" />\n<br style="box-sizing: border-box\; color: rgb(43\, 39\, 44)\; font-family: franklin-gothic-urw-comp\; font-size: 18px\;" />\n<span style="box-sizing: border-box\; margin: 0px\; padding: 0px\; border: 0px\; font-variant-numeric: inherit\; font-variant-east-asian: inherit\; font-weight: bolder\; font-stretch: inherit\; font-size: 16px\; line-height: inherit\; font-family: arial\; vertical-align: baseline\; color: rgb(43\, 39\, 44)\;"><span style="box-sizing: border-box\; margin: 0px\; padding: 0px\; border: 0px\; font: inherit\; vertical-align: baseline\;"><span style="box-sizing: border-box\; margin: 0px\; padding: 0px\; border: 0px\; font: inherit\; vertical-align: baseline\;"><span style="box-sizing: border-box\; margin: 0px\; padding: 0px\; border: 0px\; font: inherit\; vertical-align: baseline\; background-color: rgb(255\, 255\, 0)\;">All attendees are required follow ADPH guidelines regarding COVID-19 by maintaining proper social distancing &amp\; wearing a face covering.</span></span></span></span>
LOCATION:Alabama Goodwill Industries\, Inc.- Rainbow City Location
UID:e.1432.403435
SEQUENCE:3
DTSTAMP:20260421T081909Z
URL:http://business.etowahchamber.org/events/details/ribbon-cutting-for-alabama-goodwill-industries-inc-403435
END:VEVENT

END:VCALENDAR
