BEGIN:VCALENDAR
VERSION:2.0
PRODID:-//ChamberMaster//Event Calendar 2.0//EN
METHOD:PUBLISH
X-PUBLISHED-TTL:P3D
REFRESH-INTERVAL:P3D
CALSCALE:GREGORIAN
BEGIN:VEVENT
DTSTART:20180717T170000Z
DTEND:20180717T180000Z
X-MICROSOFT-CDO-ALLDAYEVENT:FALSE
SUMMARY:Ribbon Cutting for All About You Kids Spa
DESCRIPTION:Join The Chamber for a Ribbon Cutting at All About You Kids Spa! Come see the new kids spa where their mission is to empower girls with a positive self image in a relaxing environment! Stop by to meet the owners\, Cheritta Carstarphen and Breunna Holt\, to congratulate them. Enjoy snacks and refreshments following the ribbon cutting. Check them out online at All About You Kids Spa before the ribbon cutting!
X-ALT-DESC;FMTTYPE=text/html:<span style="font-size:16px\;"><span style="font-family:arial\;">Join The Chamber for a Ribbon Cutting at All About You Kids Spa! Come see the new kids spa where their mission is to empower girls with a positive self image in a relaxing environment! Stop by to meet the owners\,&nbsp\;Cheritta Carstarphen and&nbsp\;Breunna Holt\, to congratulate them.&nbsp\;Enjoy snacks and refreshments following the ribbon cutting.&nbsp\;Check them out online at <strong><a href="https://www.facebook.com/AllAboutYouRBC/"><span style="color:#0000FF\;">All About You Kids Spa</span></a></strong><span style="color:#0000FF\;"><b>&nbsp\;</b></span>before the ribbon cutting!</span></span>
LOCATION:All About You Kids Spa 3225 Rainbow Drive\, Suite 258 & 260 Rainbow City\, AL 35906
UID:e.1432.397937
SEQUENCE:3
DTSTAMP:20260421T122625Z
URL:http://business.etowahchamber.org/events/details/ribbon-cutting-for-all-about-you-kids-spa-397937
END:VEVENT

END:VCALENDAR
