BEGIN:VCALENDAR
VERSION:2.0
PRODID:-//ChamberMaster//Event Calendar 2.0//EN
METHOD:PUBLISH
X-PUBLISHED-TTL:P3D
REFRESH-INTERVAL:P3D
CALSCALE:GREGORIAN
BEGIN:VEVENT
DTSTART:20181218T213000Z
DTEND:20181218T223000Z
X-MICROSOFT-CDO-ALLDAYEVENT:FALSE
SUMMARY:Ribbon Cutting for Bama Bucks
DESCRIPTION:Join The Chamber for a Ribbon Cutting at Bama Bucks! Come hear remarks from the owners and management of the family owned and operated exotic animal farm in Boaz\, AL. They will also be opening a store\, exotic wildlife viewing area\, and a wild game restaurant to the public soon! Visit them on Facebook at Bama Bucks before the event!
X-ALT-DESC;FMTTYPE=text/html:<span style="font-size:16px\;"><span style="font-family:arial\;">Join The Chamber for a Ribbon Cutting at Bama Bucks! Come hear remarks from the owners and management of the family owned and operated exotic animal farm in Boaz\, AL. They will also be opening a store\, exotic wildlife viewing area\, and a wild game restaurant to the public soon! Visit them on Facebook at <a href="https://www.facebook.com/Bama-Bucks-761905347345261/"><font color="#0000ff"><b>Bama Bucks</b></font></a>&nbsp\;before the event!</span></span>
LOCATION:Bama Bucks 292 Bryant Road Boaz\, AL 35956
UID:e.1432.398420
SEQUENCE:3
DTSTAMP:20260421T185306Z
URL:http://business.etowahchamber.org/events/details/ribbon-cutting-for-bama-bucks-398420
END:VEVENT

END:VCALENDAR
