BEGIN:VCALENDAR
VERSION:2.0
PRODID:-//ChamberMaster//Event Calendar 2.0//EN
METHOD:PUBLISH
X-PUBLISHED-TTL:P3D
REFRESH-INTERVAL:P3D
CALSCALE:GREGORIAN
BEGIN:VEVENT
DTSTART:20200826T150000Z
DTEND:20200826T160000Z
X-MICROSOFT-CDO-ALLDAYEVENT:FALSE
SUMMARY:Ribbon Cutting for Blackstone Pizza Kitchen
DESCRIPTION:Join the The Chamber & Blackstone Pizza Kitchen at their brand new second location on Noccalula Mountain! Hear remarks from the owners\, register for door prizes\, & check out the new location to serve you!\n\n\n\nAll attendees are required follow ADPH guidelines regarding COVID-19 by maintaining proper social distancing & wearing a face covering.
X-ALT-DESC;FMTTYPE=text/html:<span style="font-size:16px\;"><span style="font-family:arial\;"><span style="color: rgb(43\, 39\, 44)\;">Join the The Chamber &amp\; Blackstone Pizza Kitchen at their <em><strong>brand new second location</strong></em> on Noccalula Mountain! Hear remarks from the owners\, register for door prizes\, &amp\; check out the new location to serve you!</span></span></span><br />\n<br />\n<strong><span style="font-size: 16px\;"><span style="font-family: arial\;"><span style="background-color: rgb(255\, 255\, 0)\;">All attendees are required follow ADPH guidelines regarding COVID-19 by maintaining proper social distancing &amp\; wearing a face covering.</span></span></span></strong>
LOCATION:Blackstone Pizza Kitchen
UID:e.1432.403246
SEQUENCE:3
DTSTAMP:20260419T155355Z
URL:http://business.etowahchamber.org/events/details/ribbon-cutting-for-blackstone-pizza-kitchen-403246
END:VEVENT

END:VCALENDAR
