BEGIN:VCALENDAR
VERSION:2.0
PRODID:-//ChamberMaster//Event Calendar 2.0//EN
METHOD:PUBLISH
X-PUBLISHED-TTL:P3D
REFRESH-INTERVAL:P3D
CALSCALE:GREGORIAN
BEGIN:VEVENT
DTSTART:20180906T220000Z
DTEND:20180906T230000Z
X-MICROSOFT-CDO-ALLDAYEVENT:FALSE
SUMMARY:Ribbon Cutting for Blings N Things LLC(New Location)
DESCRIPTION:Join The Chamber for a Ribbon Cutting at the new location of Blings N Things in Downtown Gadsden in the 600 Block of Broad Street! Come by to meet owners Felicia Harrison and Torrie Rigby\, check out the new store\, and congratulate them on the recent move! Enjoy refreshments and food provided by Blings N Things following the ribbon cutting. Visit them on Facebook at Blings N Things before the event!
X-ALT-DESC;FMTTYPE=text/html:<span style="font-size:16px\;"><span style="font-family:arial\;">Join The Chamber for a Ribbon Cutting at the new location of Blings N Things in Downtown Gadsden in the 600 Block of Broad Street! Come by to meet owners Felicia Harrison and Torrie Rigby\, check out the new store\, and congratulate them on the recent move! Enjoy refreshments and food provided by Blings N Things following the ribbon cutting. Visit them on Facebook at <strong><a href="https://www.facebook.com/BLINGSNTHINGS-646375722047367/"><span style="color:#0000FF\;">Blings N Things</span></a></strong> before the event!</span></span>
LOCATION:Blings N Things LLC 618 Broad Street Gadsden\, AL 35901
UID:e.1432.397973
SEQUENCE:3
DTSTAMP:20260421T150400Z
URL:http://business.etowahchamber.org/events/details/ribbon-cutting-for-blings-n-things-llc-new-location-397973
END:VEVENT

END:VCALENDAR
