BEGIN:VCALENDAR
VERSION:2.0
PRODID:-//ChamberMaster//Event Calendar 2.0//EN
METHOD:PUBLISH
X-PUBLISHED-TTL:P3D
REFRESH-INTERVAL:P3D
CALSCALE:GREGORIAN
BEGIN:VEVENT
DTSTART:20181025T160000Z
DTEND:20181025T170000Z
X-MICROSOFT-CDO-ALLDAYEVENT:FALSE
SUMMARY:Ribbon Cutting for Buck's Island- Tackle Store Expansion
DESCRIPTION:Join The Chamber for a Ribbon Cutting at Buck's Island in Southside for their recently completed tackle store\, The Loft! Along with over 10\,000 items\, they will take custom orders and work to stock more of what you want! Enjoy snacks and refreshments following the ribbon cutting. Visit them on Facebook at Buck's Island before the event!
X-ALT-DESC;FMTTYPE=text/html:<span style="font-size:16px\;"><span style="font-family:arial\;">Join The Chamber for a Ribbon Cutting at Buck&#39\;s Island in Southside for their recently completed tackle store\, The Loft!&nbsp\;Along with over 10\,000 items\, they will take custom orders and work to stock more of what you want!&nbsp\;Enjoy snacks and refreshments following the ribbon cutting. Visit them on Facebook at <a href="https://www.facebook.com/BucksIsland/"><strong><span style="color:#0000FF\;">Buck&#39\;s Island</span></strong></a>&nbsp\;before the event!</span></span>
LOCATION:Buck's Island 4500 Highway 77 Southside\, AL 35907
UID:e.1432.398262
SEQUENCE:3
DTSTAMP:20260421T161343Z
URL:http://business.etowahchamber.org/events/details/ribbon-cutting-for-buck-s-island-tackle-store-expansion-398262
END:VEVENT

END:VCALENDAR
