BEGIN:VCALENDAR
VERSION:2.0
PRODID:-//ChamberMaster//Event Calendar 2.0//EN
METHOD:PUBLISH
X-PUBLISHED-TTL:P3D
REFRESH-INTERVAL:P3D
CALSCALE:GREGORIAN
BEGIN:VEVENT
DTSTART:20181102T210000Z
DTEND:20181102T220000Z
X-MICROSOFT-CDO-ALLDAYEVENT:FALSE
SUMMARY:Ribbon Cutting for Butterfly Home Care\, LLC
DESCRIPTION:Join The Chamber for a Ribbon Cutting at Butterfly Home Care\, LLC! Come meet the owner\, Sophia Loyd\, and congratulate her on the recently opened business. We offer a range of services from help with personal care\, med reminder\, transportation to doctors appointments\, grocery shopping\, sitter and live-in service and so much more.\n\n\n\nMake sure to share Butterfly Home Care\, LLC's Facebook page until November 2nd for a chance to win $100 cash! Enjoy food and refreshments following the ribbon cutting. Visit her on Facebook at Butterfly Home Care\, LLC before the event!
X-ALT-DESC;FMTTYPE=text/html:<span style="font-size:16px\;"><span style="font-family:arial\;">Join The Chamber for a Ribbon Cutting at Butterfly Home Care\, LLC! Come meet the owner\, Sophia Loyd\, and congratulate her on the recently opened business.&nbsp\;We offer a range of services from help with personal care\, med reminder\, transportation to doctors appointments\, grocery shopping\, sitter and live-in service and so much more.<br />\n<br />\n<strong>Make sure to share Butterfly Home Care\, LLC&#39\;s Facebook page until November 2nd for a chance to win $100 cash!&nbsp\;</strong>Enjoy food and refreshments following the ribbon cutting. Visit her on Facebook at <a href="https://www.facebook.com/butterflyhome.info/"><strong><span style="color:#0000FF\;">Butterfly Home Care\, LLC</span></strong></a>&nbsp\;before the event!</span></span>
LOCATION:Butterfly Home Care\, LLC 1523 Rainbow Drive\, Suite 1 Gadsden\, AL 35901
UID:e.1432.398187
SEQUENCE:3
DTSTAMP:20260421T172418Z
URL:http://business.etowahchamber.org/events/details/ribbon-cutting-for-butterfly-home-care-llc-398187
END:VEVENT

END:VCALENDAR
