BEGIN:VCALENDAR
VERSION:2.0
PRODID:-//ChamberMaster//Event Calendar 2.0//EN
METHOD:PUBLISH
X-PUBLISHED-TTL:P3D
REFRESH-INTERVAL:P3D
CALSCALE:GREGORIAN
BEGIN:VEVENT
DTSTART:20180824T170000Z
DTEND:20180824T180000Z
X-MICROSOFT-CDO-ALLDAYEVENT:FALSE
SUMMARY:Ribbon Cutting for Campers Unlimited
DESCRIPTION:Join The Chamber for a Ribbon Cutting at Campers Unlimited! Come see their recently completed Sales\, Parts\, & Service Facility and new location. Stop by to meet their management and staff\, and enjoy snacks following the ribbon cutting. Check them out online at Campers Unlimited before the ribbon cutting!
X-ALT-DESC;FMTTYPE=text/html:<span style="font-size:16px\;"><span style="font-family:arial\;">Join The Chamber for a Ribbon Cutting at Campers Unlimited! Come see their recently completed Sales\, Parts\, &amp\; Service Facility and new location</span></span><span style="font-size:16px\;"><span style="font-family:arial\;">. Stop by to meet their management and staff\, and enjoy snacks following the ribbon cutting. Check them out online at<font color="#0000ff">&nbsp\;</font><a href="https://www.facebook.com/campersunlimited/"><span style="color:#0000FF\;"><b>Campers Unlimited</b></span></a><font color="#0000ff">&nbsp\;</font>before the ribbon cutting!</span></span>
LOCATION:Campers Unlimited 4315 Old Pump Station Road Gadsden\, AL 35904
UID:e.1432.397996
SEQUENCE:3
DTSTAMP:20260421T135052Z
URL:http://business.etowahchamber.org/events/details/ribbon-cutting-for-campers-unlimited-397996
END:VEVENT

END:VCALENDAR
