BEGIN:VCALENDAR
VERSION:2.0
PRODID:-//ChamberMaster//Event Calendar 2.0//EN
METHOD:PUBLISH
X-PUBLISHED-TTL:P3D
REFRESH-INTERVAL:P3D
CALSCALE:GREGORIAN
BEGIN:VEVENT
DTSTART:20181102T160000Z
DTEND:20181102T170000Z
X-MICROSOFT-CDO-ALLDAYEVENT:FALSE
SUMMARY:Ribbon Cutting for Crossroads to Pathways Counseling
DESCRIPTION:Join The Chamber for a Ribbon Cutting at Crossroads to Pathways Counseling! Come meet Sharika Pruitt \,Licensed Professional Counselor\, at her new location in Gadsden where she provides individual and family counseling for children\, adolescents\, teens\, and adults! Enjoy food and refreshments following the ribbon cutting. Visit her on Facebook at Crossroads to Pathways Counseling before the event!
X-ALT-DESC;FMTTYPE=text/html:<span style="font-size:16px\;"><span style="font-family:arial\;">Join The Chamber for a Ribbon Cutting at Crossroads to Pathways Counseling! Come meet Sharika Pruitt \,Licensed Professional Counselor\, at her new location in Gadsden where she provides&nbsp\;individual and family counseling for children\, adolescents\, teens\, and adults! Enjoy food and refreshments following the ribbon cutting. Visit her on Facebook at <a href="https://www.facebook.com/crossroads2pathways/"><strong><span style="color:#0000FF\;">Crossroads to Pathways Counseling</span></strong></a>&nbsp\;before the event!</span></span>
LOCATION:Crossroads to Pathways Counseling 307 South 5th Street Gadsden\, AL 35901
UID:e.1432.398254
SEQUENCE:3
DTSTAMP:20260421T172418Z
URL:http://business.etowahchamber.org/events/details/ribbon-cutting-for-crossroads-to-pathways-counseling-398254
END:VEVENT

END:VCALENDAR
