BEGIN:VCALENDAR
VERSION:2.0
PRODID:-//ChamberMaster//Event Calendar 2.0//EN
METHOD:PUBLISH
X-PUBLISHED-TTL:P3D
REFRESH-INTERVAL:P3D
CALSCALE:GREGORIAN
BEGIN:VEVENT
DTSTART:20200917T160000Z
DTEND:20200917T170000Z
X-MICROSOFT-CDO-ALLDAYEVENT:FALSE
SUMMARY:Ribbon Cutting for Crown Beauty Supply\, LLC
DESCRIPTION:Join the The Chamber & Crown Beauty Supply\, LLC for a ribbon cutting at their recently opened beauty supply store. As a veteran owned company they are engineered to serve\, care about their customers\, and want their store to be a place that represents the community. Come meet the owners & enjoy coupons for store discounts!\n\n\n\nAll attendees are required follow ADPH guidelines regarding COVID-19 by maintaining proper social distancing & wearing a face covering.
X-ALT-DESC;FMTTYPE=text/html:<span style="box-sizing: border-box\; margin: 0px\; padding: 0px\; border: 0px\; font-variant-numeric: inherit\; font-variant-east-asian: inherit\; font-stretch: inherit\; font-size: 16px\; line-height: inherit\; font-family: franklin-gothic-urw-comp\; vertical-align: baseline\; color: rgb(43\, 39\, 44)\;"><span style="box-sizing: border-box\; margin: 0px\; padding: 0px\; border: 0px\; font-style: inherit\; font-variant: inherit\; font-weight: inherit\; font-stretch: inherit\; font-size: inherit\; line-height: inherit\; font-family: arial\; vertical-align: baseline\;"><span style="box-sizing: border-box\; margin: 0px\; padding: 0px\; border: 0px\; font: inherit\; vertical-align: baseline\;">Join the The Chamber &amp\; Crown Beauty Supply\, LLC for a ribbon cutting at their recently opened beauty supply store.</span></span><span style="font-family:arial\;"><span style="box-sizing: border-box\; margin: 0px\; padding: 0px\; border: 0px\; font-style: inherit\; font-variant: inherit\; font-weight: inherit\; font-stretch: inherit\; line-height: inherit\; vertical-align: baseline\;"><span style="box-sizing: border-box\; margin: 0px\; padding: 0px\; border: 0px\; font-style: inherit\; font-variant: inherit\; font-weight: inherit\; font-stretch: inherit\; line-height: inherit\; vertical-align: baseline\;">&nbsp\;</span></span></span></span><span style="font-size:16px\;"><span style="font-family:arial\;">As a veteran owned company they are engineered to serve\, care about their customers\, and want their store to be a place that represents the community. Come meet the owners &amp\; enjoy coupons for store discounts!</span></span><br style="box-sizing: border-box\; color: rgb(43\, 39\, 44)\; font-family: franklin-gothic-urw-comp\; font-size: 18px\;" />\n<br style="box-sizing: border-box\; color: rgb(43\, 39\, 44)\; font-family: franklin-gothic-urw-comp\; font-size: 18px\;" />\n<span style="box-sizing: border-box\; font-weight: bolder\; margin: 0px\; padding: 0px\; border: 0px\; font-variant-numeric: inherit\; font-variant-east-asian: inherit\; font-stretch: inherit\; font-size: 18px\; line-height: inherit\; font-family: franklin-gothic-urw-comp\; vertical-align: baseline\; color: rgb(43\, 39\, 44)\;"><span style="box-sizing: border-box\; margin: 0px\; padding: 0px\; border: 0px\; font-style: inherit\; font-variant: inherit\; font-weight: inherit\; font-stretch: inherit\; font-size: 16px\; line-height: inherit\; font-family: inherit\; vertical-align: baseline\;"><span style="box-sizing: border-box\; margin: 0px\; padding: 0px\; border: 0px\; font-style: inherit\; font-variant: inherit\; font-weight: inherit\; font-stretch: inherit\; font-size: inherit\; line-height: inherit\; font-family: arial\; vertical-align: baseline\;"><span style="box-sizing: border-box\; margin: 0px\; padding: 0px\; border: 0px\; font: inherit\; vertical-align: baseline\; background-color: rgb(255\, 255\, 0)\;">All attendees are required follow ADPH guidelines regarding COVID-19 by maintaining proper social distancing &amp\; wearing a face covering.</span></span></span></span>
LOCATION:Crown Beauty Supply\, LLC
UID:e.1432.403284
SEQUENCE:3
DTSTAMP:20260421T094402Z
URL:http://business.etowahchamber.org/events/details/ribbon-cutting-for-crown-beauty-supply-llc-403284
END:VEVENT

END:VCALENDAR
