BEGIN:VCALENDAR
VERSION:2.0
PRODID:-//ChamberMaster//Event Calendar 2.0//EN
METHOD:PUBLISH
X-PUBLISHED-TTL:P3D
REFRESH-INTERVAL:P3D
CALSCALE:GREGORIAN
BEGIN:VEVENT
DTSTART:20190228T170000Z
DTEND:20190228T180000Z
X-MICROSOFT-CDO-ALLDAYEVENT:FALSE
SUMMARY:Ribbon Cutting for El Patron Mexican Restaurant II
DESCRIPTION:Join The Chamber for a Ribbon Cutting at El Patron Mexican Restaurant II at their new Gadsden location! Come meet owner Arturo Cabrera\, see the recently opened restaurant\, and register for a gift certificate at the event. Enjoy refreshments and light appetizers following the ribbon cutting. Visit them online at El Patron II before the event.
X-ALT-DESC;FMTTYPE=text/html:<span style="font-size:16px\;"><span style="font-family:arial\;">Join The Chamber for a Ribbon Cutting at El Patron Mexican Restaurant II at their new Gadsden location! Come meet owner Arturo Cabrera\, see the recently opened restaurant\, and register for a gift certificate at the event. Enjoy refreshments and light appetizers following the ribbon cutting.&nbsp\;Visit them online at <strong><a href="https://www.facebook.com/El-patron-Mexican-restaurant-II-362931804485234/"><span style="color:#0000FF\;">El Patron II</span></a></strong> before the event.</span></span>
LOCATION:El Patron Mexican Restaurant II 607 East Meighan Boulevard Gadsden\, AL 35903
UID:e.1432.400243
SEQUENCE:3
DTSTAMP:20260421T214506Z
URL:http://business.etowahchamber.org/events/details/ribbon-cutting-for-el-patron-mexican-restaurant-ii-400243
END:VEVENT

END:VCALENDAR
