BEGIN:VCALENDAR
VERSION:2.0
PRODID:-//ChamberMaster//Event Calendar 2.0//EN
METHOD:PUBLISH
X-PUBLISHED-TTL:P3D
REFRESH-INTERVAL:P3D
CALSCALE:GREGORIAN
BEGIN:VEVENT
DTSTART:20180918T190000Z
DTEND:20180918T200000Z
X-MICROSOFT-CDO-ALLDAYEVENT:FALSE
SUMMARY:Ribbon Cutting for Express Steak(Expansion)
DESCRIPTION:Join The Chamber for a Ribbon Cutting at Express Steak for their recent expansion! Come meet the owners and check out the new addition to the restaurant! Enjoy samples & refreshments following the ribbon cutting.  Visit them on Facebook at Express Steak before the event!
X-ALT-DESC;FMTTYPE=text/html:<span style="font-size:16px\;"><span style="font-family:arial\;">Join The Chamber for a Ribbon Cutting at Express Steak for their recent expansion! Come meet the owners and check out the new addition to the restaurant! Enjoy samples &amp\; refreshments following the ribbon cutting.&nbsp\; Visit them on Facebook at <strong><a href="https://www.facebook.com/ExpressSteak/"><span style="color:#0000FF\;">E</span></a></strong><a href="https://www.facebook.com/ExpressSteak/"><span style="color:#0000FF\;"><strong>xpress Stea</strong></span></a><strong><span style="color:#0000FF\;">k</span></strong>&nbsp\;before the event!</span></span>
LOCATION:Express Steak 451 George Wallace Drive Gadsden\, AL 35903
UID:e.1432.398048
SEQUENCE:3
DTSTAMP:20260421T150328Z
URL:http://business.etowahchamber.org/events/details/ribbon-cutting-for-express-steak-expansion-398048
END:VEVENT

END:VCALENDAR
