BEGIN:VCALENDAR
VERSION:2.0
PRODID:-//ChamberMaster//Event Calendar 2.0//EN
METHOD:PUBLISH
X-PUBLISHED-TTL:P3D
REFRESH-INTERVAL:P3D
CALSCALE:GREGORIAN
BEGIN:VEVENT
DTSTART:20180925T210000Z
DTEND:20180925T230000Z
X-MICROSOFT-CDO-ALLDAYEVENT:FALSE
SUMMARY:Ribbon Cutting for GadRock
DESCRIPTION:Join The Chamber for a Ribbon Cutting at GadRock! Come check out the brand new microgym offering indoor rock climbing and exciting cross training activities! Meet the owners Kate Wilson and Carrie Machen\, take a tour\, and register for door prizes. Enjoy hors d'oeuvres and drinks following the ribbon cutting. Visit them on Facebook at GadRock before the event!
X-ALT-DESC;FMTTYPE=text/html:<span style="font-size:16px\;"><span style="font-family:arial\;">Join The Chamber for a Ribbon Cutting at GadRock! Come check out the brand new microgym offering indoor rock climbing and exciting cross training activities! Meet the owners Kate Wilson and Carrie Machen\, take a tour\, and register for door prizes. Enjoy hors d&#39\;oeuvres and drinks following the ribbon cutting. Visit them on Facebook at <a href="https://www.facebook.com/climbgadrock/"><strong><span style="color:#0000FF\;">GadRock</span></strong></a>&nbsp\;before the event!</span></span>
LOCATION:GadRock 1403 Rainbow Drive Gadsden\, AL 35901
UID:e.1432.398068
SEQUENCE:3
DTSTAMP:20260421T150230Z
URL:http://business.etowahchamber.org/events/details/ribbon-cutting-for-gadrock-398068
END:VEVENT

END:VCALENDAR
