BEGIN:VCALENDAR
VERSION:2.0
PRODID:-//ChamberMaster//Event Calendar 2.0//EN
METHOD:PUBLISH
X-PUBLISHED-TTL:P3D
REFRESH-INTERVAL:P3D
CALSCALE:GREGORIAN
BEGIN:VEVENT
DTSTART:20181107T173000Z
DTEND:20181107T183000Z
X-MICROSOFT-CDO-ALLDAYEVENT:FALSE
SUMMARY:Ribbon Cutting for Gadsden Treatment Center
DESCRIPTION:Join The Chamber for a Ribbon Cutting at Behavioral Health Group- Gadsden Treatment Center at their new building! Come meet the staff and congratulate them on their new location. Gadsden Treatment Center provides medically assisted treatment with intensive individual\, group & family counseling to treat opiate addiction. Enjoy food and refreshments following the ribbon cutting. Visit them on Facebook at Gadsden Treatment Center before the event!
X-ALT-DESC;FMTTYPE=text/html:<span style="font-size:16px\;"><span style="font-family:arial\;">Join The Chamber for a Ribbon Cutting at Behavioral Health Group- Gadsden Treatment Center at their new building! Come meet the staff and congratulate them on their new location. Gadsden Treatment Center provides medically assisted treatment with intensive individual\, group &amp\; family counseling to treat opiate addiction. Enjoy food and refreshments following the ribbon cutting. Visit them on Facebook at <a href="https://www.facebook.com/Gadsdentreatmentcenter/"><strong><span style="color:#0000FF\;">Gadsden Treatment Center</span></strong></a>&nbsp\;before the event!</span></span>
LOCATION:Behavioral Health Group- Gadsden Treatment Center 1121 Gardner Street Gadsden\, AL 35901
UID:e.1432.398282
SEQUENCE:3
DTSTAMP:20260421T172235Z
URL:http://business.etowahchamber.org/events/details/ribbon-cutting-for-gadsden-treatment-center-398282
END:VEVENT

END:VCALENDAR
