BEGIN:VCALENDAR
VERSION:2.0
PRODID:-//ChamberMaster//Event Calendar 2.0//EN
METHOD:PUBLISH
X-PUBLISHED-TTL:P3D
REFRESH-INTERVAL:P3D
CALSCALE:GREGORIAN
BEGIN:VEVENT
DTSTART:20181019T180000Z
DTEND:20181019T190000Z
X-MICROSOFT-CDO-ALLDAYEVENT:FALSE
SUMMARY:Ribbon Cutting for Glencoe Shell(New Ownership & Additions)
DESCRIPTION:Join The Chamber at a Ribbon Cutting for Glencoe Shell to meet the new owners! Come hear remarks from the new owners and see the new additions they have made to the store. Visit them on Facebook at Glencoe Shell before the event!
X-ALT-DESC;FMTTYPE=text/html:<span style="font-size:16px\;"><span style="font-family:arial\;">Join The Chamber at a Ribbon Cutting for Glencoe Shell to meet the new owners! Come hear remarks from the new owners and see the new additions they have made to the store. Visit them on Facebook at <a href="https://www.facebook.com/glencoeshell/"><strong><span style="color:#0000FF\;">Glencoe Shell</span></strong></a>&nbsp\;before the event!</span></span>
LOCATION:Glencoe Shell 2905 East Meighan Boulevard Glencoe\, AL 35903
UID:e.1432.398266
SEQUENCE:3
DTSTAMP:20260421T160917Z
URL:http://business.etowahchamber.org/events/details/ribbon-cutting-for-glencoe-shell-new-ownership-additions-398266
END:VEVENT

END:VCALENDAR
