BEGIN:VCALENDAR
VERSION:2.0
PRODID:-//ChamberMaster//Event Calendar 2.0//EN
METHOD:PUBLISH
X-PUBLISHED-TTL:P3D
REFRESH-INTERVAL:P3D
CALSCALE:GREGORIAN
BEGIN:VEVENT
DTSTART:20200629T160000Z
DTEND:20200629T170000Z
X-MICROSOFT-CDO-ALLDAYEVENT:FALSE
SUMMARY:Ribbon Cutting for H&B Nails & Hair
DESCRIPTION:Join the The Chamber and new owners of H&B Nails & Hair in Rainbow City! Come hear remarks from the new owners & learn more about their business. Enjoy refreshments following the ribbon cutting ceremony & meet the staff of H&B Nails & Hair.\n\n\n\nAbout H&B Nails & Hair: We specialize in Nails\, Gel\, Dip Powder\, Solar Pink and White\, Pedicures\, Waxing\, Hair\, Color\, Keratin Treatments\, Hair Extensions\, Perms\, & Highlights.
X-ALT-DESC;FMTTYPE=text/html:<span style="font-size:16px\;"><span style="font-family:arial\;"><span style="color: rgb(43\, 39\, 44)\;">Join the The Chamber and new owners of H&amp\;B Nails &amp\; Hair in Rainbow City! Come hear remarks from the new owners &amp\; learn more about their business. Enjoy refreshments following the ribbon cutting ceremony &amp\; meet the staff of H&amp\;B Nails &amp\; Hair.</span></span></span><br />\n<br />\n<span style="font-size:16px\;"><span style="font-family:arial\;"><span style="color: rgb(43\, 39\, 44)\;"><u><strong>About H&amp\;B Nails &amp\; Hair:</strong></u>&nbsp\;We specialize in Nails\, Gel\, Dip Powder\, Solar Pink and White\, Pedicures\, Waxing\, Hair\, Color\, Keratin Treatments\, Hair Extensions\, Perms\, &amp\; Highlights.</span></span></span>
LOCATION:H&B Nails & Hair
UID:e.1432.402736
SEQUENCE:3
DTSTAMP:20260419T190120Z
URL:http://business.etowahchamber.org/events/details/ribbon-cutting-for-h-b-nails-hair-402736
END:VEVENT

END:VCALENDAR
