BEGIN:VCALENDAR
VERSION:2.0
PRODID:-//ChamberMaster//Event Calendar 2.0//EN
METHOD:PUBLISH
X-PUBLISHED-TTL:P3D
REFRESH-INTERVAL:P3D
CALSCALE:GREGORIAN
BEGIN:VEVENT
DTSTART:20181006T150000Z
DTEND:20181006T160000Z
X-MICROSOFT-CDO-ALLDAYEVENT:FALSE
SUMMARY:Ribbon Cutting for Hokes Bluff Hardware & Building Supply
DESCRIPTION:Join The Chamber for a Ribbon Cutting at Hokes Bluff Hardware & Building Supply! Come check out the recently remodeled store and meet the staff during the Customer Appreciation Day/Grand Re-Opening event. Enjoy hot dogs\, giveaways\, and sale items for the event! Visit them on Facebook at Hokes Bluff Hardware & Building Supply before the event!
X-ALT-DESC;FMTTYPE=text/html:<span style="font-size:16px\;"><span style="font-family:arial\;">Join The Chamber for a Ribbon Cutting at Hokes Bluff Hardware &amp\; Building Supply! Come check out the recently remodeled store and meet the staff during the Customer Appreciation Day/Grand Re-Opening event. Enjoy hot dogs\, giveaways\, and sale items for the event! Visit them on Facebook at <a href="https://www.facebook.com/TownCountryFarmSupply/"><strong><span style="color:#0000FF\;">Hokes Bluff Hardware &amp\; Building Supply</span></strong></a>&nbsp\;before the event!</span></span>
LOCATION:Hokes Bluff Hardware & Building Supply 5601 Main Street Hokes Bluff\, AL 35903
UID:e.1432.398178
SEQUENCE:3
DTSTAMP:20260421T160858Z
URL:http://business.etowahchamber.org/events/details/ribbon-cutting-for-hokes-bluff-hardware-building-supply-398178
END:VEVENT

END:VCALENDAR
