BEGIN:VCALENDAR
VERSION:2.0
PRODID:-//ChamberMaster//Event Calendar 2.0//EN
METHOD:PUBLISH
X-PUBLISHED-TTL:P3D
REFRESH-INTERVAL:P3D
CALSCALE:GREGORIAN
BEGIN:VEVENT
DTSTART:20180907T210000Z
DTEND:20180907T220000Z
X-MICROSOFT-CDO-ALLDAYEVENT:FALSE
SUMMARY:Ribbon Cutting for Imagination Place(Recent Updates)
DESCRIPTION:Join The Chamber for a Ribbon Cutting at the Imagination Place inside the Mary G. Hardin Center for Cultural Arts to see their recent updates! Come hear from Holly Guinn\, Museum Director\, see the new dress up clothes and several other updates to the Exchange Bank play area. Enjoy refreshments provided by Imagination Place following the ribbon cutting. Visit them on Facebook at Imagination Place before the event!
X-ALT-DESC;FMTTYPE=text/html:<span style="font-size:16px\;"><span style="font-family:arial\;">Join The Chamber for a Ribbon Cutting at the Imagination Place inside the Mary G. Hardin Center for Cultural Arts to see their recent updates! Come hear from Holly Guinn\, Museum Director\, see the&nbsp\;new dress up clothes and several other updates to the Exchange Bank play area. Enjoy refreshments provided by Imagination Place following the ribbon cutting. Visit them on Facebook at <a href="https://www.facebook.com/ipgadsden/"><strong><span style="color:#0000FF\;">Imagination Place</span></strong></a>&nbsp\;before the event!</span></span>
LOCATION:Imagination Place 501 Broad Street Gadsden\, AL 35901
UID:e.1432.398067
SEQUENCE:3
DTSTAMP:20260421T150045Z
URL:http://business.etowahchamber.org/events/details/ribbon-cutting-for-imagination-place-recent-updates-398067
END:VEVENT

END:VCALENDAR
