BEGIN:VCALENDAR
VERSION:2.0
PRODID:-//ChamberMaster//Event Calendar 2.0//EN
METHOD:PUBLISH
X-PUBLISHED-TTL:P3D
REFRESH-INTERVAL:P3D
CALSCALE:GREGORIAN
BEGIN:VEVENT
DTSTART:20180927T213000Z
DTEND:20180927T223000Z
X-MICROSOFT-CDO-ALLDAYEVENT:FALSE
SUMMARY:Ribbon Cutting for Innovative Virtual Realms\, Inc.
DESCRIPTION:Join The Chamber for a Ribbon Cutting at Innovative Virtual Realms! Formerly Virtual Realms\, they have moved to a new AND improved location in Glencoe. Come see the brand new location\, meet the owners\, and check out all the new additions. Register for door prizes and gift certificates! Enjoy hors d'oeuvres and refreshments following the ribbon cutting. Visit them on Facebook at Innovative Virtual Realms\, Inc. before the event!
X-ALT-DESC;FMTTYPE=text/html:<span style="font-size:16px\;"><span style="font-family:arial\;">Join The Chamber for a Ribbon Cutting at Innovative Virtual Realms! Formerly Virtual Realms\, they have moved to a new AND improved location in Glencoe. Come see the brand new location\, meet the owners\, and check out all the new additions. Register for door prizes and gift certificates! Enjoy hors d&#39\;oeuvres and refreshments following the ribbon cutting. Visit them on Facebook at <a href="https://www.facebook.com/VirtualRealmsGadsden/"><font color="#0000ff"><b>Innovative Virtual Realms\, Inc.</b></font></a>&nbsp\;before the event!</span></span>
LOCATION:Innovative Virtual Realms\, Inc. 620 Banks Street\, Suite F Glencoe\, AL 35905
UID:e.1432.398083
SEQUENCE:3
DTSTAMP:20260421T150121Z
URL:http://business.etowahchamber.org/events/details/ribbon-cutting-for-innovative-virtual-realms-inc-398083
END:VEVENT

END:VCALENDAR
