BEGIN:VCALENDAR
VERSION:2.0
PRODID:-//ChamberMaster//Event Calendar 2.0//EN
METHOD:PUBLISH
X-PUBLISHED-TTL:P3D
REFRESH-INTERVAL:P3D
CALSCALE:GREGORIAN
BEGIN:VEVENT
DTSTART:20181005T170000Z
DTEND:20181005T180000Z
X-MICROSOFT-CDO-ALLDAYEVENT:FALSE
SUMMARY:Ribbon Cutting for King's Olive Oil Company(New Location)
DESCRIPTION:Join The Chamber for a Ribbon Cutting at King's Olive Oil Company! Come see owner Tena King's new location in Downtown Gadsden and congratulate her on the recent move. Try tastings of extra virgin olive oil & balsamic vinegar as well! Visit her on Facebook at King's Olive Oil Company before the event!
X-ALT-DESC;FMTTYPE=text/html:<span style="font-size:16px\;"><span style="font-family:arial\;">Join The Chamber for a Ribbon Cutting at King&#39\;s Olive Oil Company! Come see owner Tena King&#39\;s new location in Downtown Gadsden and congratulate her on the recent move. Try tastings of extra virgin olive oil &amp\; balsamic vinegar as well! Visit her on Facebook at <a href="https://www.facebook.com/Kings-Olive-Oil-Company-305805736226951/"><strong><span style="color:#0000FF\;">King&#39\;s Olive Oil Company</span></strong></a>&nbsp\;before the event!</span></span>
LOCATION:King's Olive Oil Company 534 Broad Street Gadsden\, AL 35901
UID:e.1432.398079
SEQUENCE:3
DTSTAMP:20260421T161335Z
URL:http://business.etowahchamber.org/events/details/ribbon-cutting-for-king-s-olive-oil-company-new-location-398079
END:VEVENT

END:VCALENDAR
