BEGIN:VCALENDAR
VERSION:2.0
PRODID:-//ChamberMaster//Event Calendar 2.0//EN
METHOD:PUBLISH
X-PUBLISHED-TTL:P3D
REFRESH-INTERVAL:P3D
CALSCALE:GREGORIAN
BEGIN:VEVENT
DTSTART:20181002T190000Z
DTEND:20181002T200000Z
X-MICROSOFT-CDO-ALLDAYEVENT:FALSE
SUMMARY:Ribbon Cutting for LongHorn Steakhouse
DESCRIPTION:Join The Chamber for a "Lasso Cutting" at LongHorn Steakhouse! Check out the brand new location in Gadsden next to the Gadsden Mall on Rainbow Drive for their grand opening day. Come hear remarks from the managing partners of the new restaurant in town!
X-ALT-DESC;FMTTYPE=text/html:<span style="font-size:16px\;"><span style="font-family:arial\;">Join The Chamber for a &quot\;Lasso Cutting&quot\; at LongHorn Steakhouse! Check out the brand new location in Gadsden next to the Gadsden Mall on Rainbow Drive for their grand opening day. Come hear remarks from the managing partners of the new restaurant in town!</span></span>
LOCATION:LongHorn Steakhouse 943 Rainbow Drive Gadsden\, AL 35901
UID:e.1432.398138
SEQUENCE:3
DTSTAMP:20260421T161200Z
URL:http://business.etowahchamber.org/events/details/ribbon-cutting-for-longhorn-steakhouse-398138
END:VEVENT

END:VCALENDAR
