BEGIN:VCALENDAR
VERSION:2.0
PRODID:-//ChamberMaster//Event Calendar 2.0//EN
METHOD:PUBLISH
X-PUBLISHED-TTL:P3D
REFRESH-INTERVAL:P3D
CALSCALE:GREGORIAN
BEGIN:VEVENT
DTSTART:20180928T170000Z
DTEND:20180928T180000Z
X-MICROSOFT-CDO-ALLDAYEVENT:FALSE
SUMMARY:Ribbon Cutting for Man Up Gadsden
DESCRIPTION:Join The Chamber for a Ribbon Cutting for Man Up Gadsden! Come meet the board of the recently formed non-profit founded from people in our community\; medical personnel\, concerned parents and community advocates who realized a need to bring awareness of prostate and testicular cancer to the forefront of men's health. A proclamation from City of Gadsden Mayor Sherman Guyton will also be presented to Man Up Gadsden. Enjoy snacks and refreshments following the ribbon cutting. Visit them on Facebook at Man Up Gadsden before the event!
X-ALT-DESC;FMTTYPE=text/html:<span style="font-size:16px\;"><span style="font-family:arial\;">Join The Chamber for a Ribbon Cutting for Man Up Gadsden! Come meet the board of the recently formed non-profit&nbsp\;founded from people in our community\; medical personnel\, concerned parents and community advocates who realized a need to bring awareness of prostate and testicular cancer to the forefront of men&rsquo\;s health. A proclamation from City of Gadsden Mayor Sherman Guyton will also be presented to Man Up Gadsden. Enjoy snacks and refreshments following the ribbon cutting. Visit them on Facebook at <a href="https://www.facebook.com/manupgadsden/"><font color="#0000ff"><b>Man Up Gadsden</b></font></a>&nbsp\;before the event!</span></span>
LOCATION:Gadsden City Hall Lawn 90 Broad Street Gadsden\, AL 35901
UID:e.1432.398132
SEQUENCE:3
DTSTAMP:20260421T150337Z
URL:http://business.etowahchamber.org/events/details/ribbon-cutting-for-man-up-gadsden-398132
END:VEVENT

END:VCALENDAR
