BEGIN:VCALENDAR
VERSION:2.0
PRODID:-//ChamberMaster//Event Calendar 2.0//EN
METHOD:PUBLISH
X-PUBLISHED-TTL:P3D
REFRESH-INTERVAL:P3D
CALSCALE:GREGORIAN
BEGIN:VEVENT
DTSTART:20201014T153000Z
DTEND:20201014T163000Z
X-MICROSOFT-CDO-ALLDAYEVENT:FALSE
SUMMARY:Ribbon Cutting for Marcelle's Restaurant
DESCRIPTION:Join the The Chamber & Marcelle's Restaurant in Downtown Gadsden for a ribbon cutting at their recently opened establishment serving "made from scratch meals" with daily specials! Come meet the owners\, enjoy refreshments\, & grab lunch following the ribbon cutting ceremony.\n\n\n\n\n\nAll attendees are required follow ADPH guidelines regarding COVID-19 by maintaining proper social distancing & wearing a face covering.
X-ALT-DESC;FMTTYPE=text/html:<span style="font-size:16px\;"><span style="font-family:arial\;"><span style="box-sizing: border-box\; margin: 0px\; padding: 0px\; border: 0px\; font-variant-numeric: inherit\; font-variant-east-asian: inherit\; font-stretch: inherit\; line-height: inherit\; vertical-align: baseline\; color: rgb(43\, 39\, 44)\;"><span style="box-sizing: border-box\; margin: 0px\; padding: 0px\; border: 0px\; font-style: inherit\; font-variant: inherit\; font-weight: inherit\; font-stretch: inherit\; line-height: inherit\; vertical-align: baseline\;"><span style="box-sizing: border-box\; margin: 0px\; padding: 0px\; border: 0px\; font-style: inherit\; font-variant: inherit\; font-weight: inherit\; font-stretch: inherit\; line-height: inherit\; vertical-align: baseline\;">Join the The Chamber &amp\; Marcelle&#39\;s Restaurant in Downtown Gadsden for a ribbon cutting at their recently opened establishment serving &quot\;made from scratch meals&quot\; with daily specials! Come meet the owners\, enjoy refreshments\, &amp\; grab lunch following the ribbon cutting ceremony.</span></span></span></span></span><br />\n<br />\n<br />\n<span style="font-size:16px\;"><span style="font-family:arial\;"><span style="box-sizing: border-box\; margin: 0px\; padding: 0px\; border: 0px\; font-variant-numeric: inherit\; font-variant-east-asian: inherit\; font-weight: bolder\; font-stretch: inherit\; line-height: inherit\; vertical-align: baseline\; color: rgb(43\, 39\, 44)\;"><span style="box-sizing: border-box\; margin: 0px\; padding: 0px\; border: 0px\; font-style: inherit\; font-variant: inherit\; font-weight: inherit\; font-stretch: inherit\; line-height: inherit\; vertical-align: baseline\;"><span style="box-sizing: border-box\; margin: 0px\; padding: 0px\; border: 0px\; font-style: inherit\; font-variant: inherit\; font-weight: inherit\; font-stretch: inherit\; line-height: inherit\; vertical-align: baseline\;"><span style="box-sizing: border-box\; margin: 0px\; padding: 0px\; border: 0px\; font-style: inherit\; font-variant: inherit\; font-weight: inherit\; font-stretch: inherit\; line-height: inherit\; vertical-align: baseline\; background-color: rgb(255\, 255\, 0)\;">All attendees are required follow ADPH guidelines regarding COVID-19 by maintaining proper social distancing &amp\; wearing a face covering.</span></span></span></span></span></span>
LOCATION:Marcelle's Restaurant
UID:e.1432.403446
SEQUENCE:3
DTSTAMP:20260421T081410Z
URL:http://business.etowahchamber.org/events/details/ribbon-cutting-for-marcelle-s-restaurant-403446
END:VEVENT

END:VCALENDAR
