BEGIN:VCALENDAR
VERSION:2.0
PRODID:-//ChamberMaster//Event Calendar 2.0//EN
METHOD:PUBLISH
X-PUBLISHED-TTL:P3D
REFRESH-INTERVAL:P3D
CALSCALE:GREGORIAN
BEGIN:VEVENT
DTSTART:20211214T180000Z
DTEND:20211214T190000Z
X-MICROSOFT-CDO-ALLDAYEVENT:FALSE
SUMMARY:Ribbon Cutting for Mental Health America- Etowah County(New Location)
DESCRIPTION:Join The Chamber & Mental Health America- Etowah County at a ribbon cutting for their new location inside the Gadsden Public Library at 254 South College Street in Gadsden! Come see their new space\, congratulate the staff on the new office\, & enjoy food & refreshments following the ribbon cutting ceremony.\n\n\n\nAbout Mental Health America:\n\nMental Health America is a non profit dedicated to promoting mental health awareness and treatment of mental illness through advocacy\, education\, support\, and referral.
X-ALT-DESC;FMTTYPE=text/html:<span style="box-sizing: border-box\; margin: 0px\; padding: 0px\; border: 0px\; font-variant-numeric: inherit\; font-variant-east-asian: inherit\; font-stretch: inherit\; font-size: 16px\; line-height: inherit\; font-family: arial\; vertical-align: baseline\; color: rgb(43\, 39\, 44)\;">Join The Chamber &amp\; </span><span style="box-sizing: border-box\; margin: 0px\; padding: 0px\; border: 0px\; font-variant-numeric: inherit\; font-variant-east-asian: inherit\; font-stretch: inherit\; font-size: 16px\; line-height: inherit\; font-family: arial\; vertical-align: baseline\;"><strong><a href="https://www.facebook.com/MHAofetowahcounty"><span style="color:#0000FF\;">Mental Health America- Etowah County</span></a></strong></span><span style="box-sizing: border-box\; margin: 0px\; padding: 0px\; border: 0px\; font-variant-numeric: inherit\; font-variant-east-asian: inherit\; font-stretch: inherit\; font-size: 16px\; line-height: inherit\; font-family: arial\; vertical-align: baseline\; color: rgb(43\, 39\, 44)\;">&nbsp\;at a ribbon cutting for their new location inside the Gadsden Public Library at 254 South College Street in Gadsden! Come see their new space\, congratulate the staff on the new office\, &amp\; enjoy food &amp\; refreshments following the ribbon cutting ceremony.</span><br />\n<br />\n<span style="font-size:16px\;"><span style="font-family:arial\;"><u><strong>About Mental Health America:</strong></u><br />\nMental Health America is a non profit dedicated to promoting mental health awareness and treatment of mental illness through advocacy\, education\, support\, and referral.</span></span>
LOCATION:Mental Health America- Etowah County Office(Located inside Gadsden Public Library)
UID:e.1432.404554
SEQUENCE:3
DTSTAMP:20260422T101256Z
URL:http://business.etowahchamber.org/events/details/ribbon-cutting-for-mental-health-america-etowah-county-new-location-404554
END:VEVENT

END:VCALENDAR
