BEGIN:VCALENDAR
VERSION:2.0
PRODID:-//ChamberMaster//Event Calendar 2.0//EN
METHOD:PUBLISH
X-PUBLISHED-TTL:P3D
REFRESH-INTERVAL:P3D
CALSCALE:GREGORIAN
BEGIN:VEVENT
DTSTART:20180921T160000Z
DTEND:20180921T170000Z
X-MICROSOFT-CDO-ALLDAYEVENT:FALSE
SUMMARY:Ribbon Cutting for One Stop Nutrition
DESCRIPTION:Join The Chamber for a Ribbon Cutting at One Stop Nutrition in Rainbow City! Come see their recently opened Rainbow City location and meet the team of the store. Enjoy a free smoothie during the ribbon cutting event ONLY ! Visit them on Facebook at One Stop Nutrition before the event!
X-ALT-DESC;FMTTYPE=text/html:<span style="font-size:16px\;"><span style="font-family:arial\;">Join The Chamber for a Ribbon Cutting at One Stop Nutrition in Rainbow City! Come see their recently opened Rainbow City location and meet the team of the store. Enjoy a free smoothie during the ribbon cutting event <u><em><strong>ONLY&nbsp\;</strong></em></u>! Visit them on Facebook at <a href="https://www.facebook.com/One-Stop-Nutrition-Rainbow-City-2073169729630208/"><strong><span style="color:#0000FF\;">One Stop Nutrition</span></strong></a>&nbsp\;before the event!</span></span>
LOCATION:One Stop Nutrition- Rainbow City 115 West Grand Avenue Rainbow City\, AL 35906
UID:e.1432.398084
SEQUENCE:3
DTSTAMP:20260421T150324Z
URL:http://business.etowahchamber.org/events/details/ribbon-cutting-for-one-stop-nutrition-398084
END:VEVENT

END:VCALENDAR
