BEGIN:VCALENDAR
VERSION:2.0
PRODID:-//ChamberMaster//Event Calendar 2.0//EN
METHOD:PUBLISH
X-PUBLISHED-TTL:P3D
REFRESH-INTERVAL:P3D
CALSCALE:GREGORIAN
BEGIN:VEVENT
DTSTART:20200929T160000Z
DTEND:20200929T170000Z
X-MICROSOFT-CDO-ALLDAYEVENT:FALSE
SUMMARY:Ribbon Cutting for Rise & Shine Wellness Center LLC
DESCRIPTION:Join the The Chamber & Rise and Shine Wellness Center LLC for a ribbon cutting at their recently opened wellness center in Downtown Gadsden. Rise and Shine Wellness Center LLC provides a facility for people to use wellness products and other tools that may improve their health. Come meet the owner\, Kelly White\, & congratulate her on the recently established business.\n\n\n\nEnjoy food & refreshments following the ribbon cutting\, enter to win door prizes\, receive a 20% off coupon for attending\, & take a tour of the facility.\n\n\n\nAll attendees are required follow ADPH guidelines regarding COVID-19 by maintaining proper social distancing & wearing a face covering.
X-ALT-DESC;FMTTYPE=text/html:<span style="box-sizing: border-box\; margin: 0px\; padding: 0px\; border: 0px\; font-variant-numeric: inherit\; font-variant-east-asian: inherit\; font-stretch: inherit\; font-size: 16px\; line-height: inherit\; font-family: franklin-gothic-urw-comp\; vertical-align: baseline\; color: rgb(43\, 39\, 44)\;"><span style="box-sizing: border-box\; margin: 0px\; padding: 0px\; border: 0px\; font-style: inherit\; font-variant: inherit\; font-weight: inherit\; font-stretch: inherit\; font-size: inherit\; line-height: inherit\; font-family: arial\; vertical-align: baseline\;"><span style="box-sizing: border-box\; margin: 0px\; padding: 0px\; border: 0px\; font: inherit\; vertical-align: baseline\;">Join the The Chamber &amp\; Rise and Shine Wellness Center LLC for a ribbon cutting at their recently opened wellness center in Downtown Gadsden.</span></span><span style="font-family: arial\;"><span style="box-sizing: border-box\; margin: 0px\; padding: 0px\; border: 0px\; font-style: inherit\; font-variant: inherit\; font-weight: inherit\; font-stretch: inherit\; line-height: inherit\; vertical-align: baseline\;"><span style="box-sizing: border-box\; margin: 0px\; padding: 0px\; border: 0px\; font-style: inherit\; font-variant: inherit\; font-weight: inherit\; font-stretch: inherit\; line-height: inherit\; vertical-align: baseline\;">&nbsp\;</span></span></span></span><span style="font-size: 16px\;"><span style="font-family: arial\;">Rise and Shine Wellness Center LLC provides a facility for people to use wellness products and other tools that may improve their health. Come meet the owner\, Kelly White\, &amp\; congratulate her on the recently established business.<br />\n<br />\nEnjoy food &amp\; refreshments following the ribbon cutting\, enter to win door prizes\, receive a 20% off coupon for attending\, &amp\; take a tour of the facility.</span></span><br style="box-sizing: border-box\; color: rgb(43\, 39\, 44)\; font-family: franklin-gothic-urw-comp\; font-size: 18px\;" />\n<br style="box-sizing: border-box\; color: rgb(43\, 39\, 44)\; font-family: franklin-gothic-urw-comp\; font-size: 18px\;" />\n<span style="box-sizing: border-box\; font-weight: bolder\; margin: 0px\; padding: 0px\; border: 0px\; font-variant-numeric: inherit\; font-variant-east-asian: inherit\; font-stretch: inherit\; font-size: 18px\; line-height: inherit\; font-family: franklin-gothic-urw-comp\; vertical-align: baseline\; color: rgb(43\, 39\, 44)\;"><span style="box-sizing: border-box\; margin: 0px\; padding: 0px\; border: 0px\; font-style: inherit\; font-variant: inherit\; font-weight: inherit\; font-stretch: inherit\; font-size: 16px\; line-height: inherit\; font-family: inherit\; vertical-align: baseline\;"><span style="box-sizing: border-box\; margin: 0px\; padding: 0px\; border: 0px\; font-style: inherit\; font-variant: inherit\; font-weight: inherit\; font-stretch: inherit\; font-size: inherit\; line-height: inherit\; font-family: arial\; vertical-align: baseline\;"><span style="box-sizing: border-box\; margin: 0px\; padding: 0px\; border: 0px\; font: inherit\; vertical-align: baseline\; background-color: rgb(255\, 255\, 0)\;">All attendees are required follow ADPH guidelines regarding COVID-19 by maintaining proper social distancing &amp\; wearing a face covering.</span></span></span></span>
LOCATION:Rise & Shine Wellness Center
UID:e.1432.403294
SEQUENCE:3
DTSTAMP:20260421T094534Z
URL:http://business.etowahchamber.org/events/details/ribbon-cutting-for-rise-shine-wellness-center-llc-403294
END:VEVENT

END:VCALENDAR
